BEGIN:VCALENDAR
VERSION:2.0
PRODID:-//spbstu.ru//ical//RU
NAME:Расписание группы 3231303/30401
X-WR-CALNAME:Расписание группы 3231303/30401
TIMEZONE-ID:Europe/Moscow
X-WR-TIMEZONE:Europe/Moscow
BEGIN:VEVENT
UID:ceaf@192.168.245.71:3006
SEQUENCE:0
DTSTAMP:20260424T143417Z
DTSTART:20251020T070000Z
DTEND:20251020T084000Z
SUMMARY:Теплообмен
LOCATION:ГЗ 153
END:VEVENT
BEGIN:VEVENT
UID:bysy@192.168.245.71:3006
SEQUENCE:0
DTSTAMP:20260424T143417Z
DTSTART:20251020T090000Z
DTEND:20251020T104000Z
SUMMARY:Теоретические основы ДВС
LOCATION:Мех. к. Уч. кл. ДВС №82
END:VEVENT
BEGIN:VEVENT
UID:ztae@192.168.245.71:3006
SEQUENCE:0
DTSTAMP:20260424T143417Z
DTSTART:20251020T110000Z
DTEND:20251020T124000Z
SUMMARY:Теплообмен
LOCATION:Хим. к. Лаб.№10 Тепло- и массообмен
END:VEVENT
BEGIN:VEVENT
UID:aj5y@192.168.245.71:3006
SEQUENCE:0
DTSTAMP:20260424T143417Z
DTSTART:20251021T090000Z
DTEND:20251021T104000Z
SUMMARY:Теоретические основы ДВС
LOCATION:Мех. к. Учебная лаб. ДВС №84
END:VEVENT
BEGIN:VEVENT
UID:60kg@192.168.245.71:3006
SEQUENCE:0
DTSTAMP:20260424T143417Z
DTSTART:20251021T110000Z
DTEND:20251021T124000Z
SUMMARY:Гидромашины
LOCATION:ГЗ 225
END:VEVENT
BEGIN:VEVENT
UID:hc5a@192.168.245.71:3006
SEQUENCE:0
DTSTAMP:20260424T143417Z
DTSTART:20251022T070000Z
DTEND:20251022T143000Z
SUMMARY:Военная подготовка
LOCATION:Военная каф. кафедра
END:VEVENT
BEGIN:VEVENT
UID:081h@192.168.245.71:3006
SEQUENCE:0
DTSTAMP:20260424T143417Z
DTSTART:20251023T070000Z
DTEND:20251023T084000Z
SUMMARY:Компьютерные технологии САПР (на английском языке)
LOCATION:Мех. к. Комп. кл. КВХТ №37
END:VEVENT
BEGIN:VEVENT
UID:c4g6@192.168.245.71:3006
SEQUENCE:0
DTSTAMP:20260424T143417Z
DTSTART:20251023T090000Z
DTEND:20251023T104000Z
SUMMARY:Компрессоры
LOCATION:ГЗ 215
END:VEVENT
BEGIN:VEVENT
UID:n6tm@192.168.245.71:3006
SEQUENCE:0
DTSTAMP:20260424T143417Z
DTSTART:20251023T110000Z
DTEND:20251023T124000Z
SUMMARY:Иностранный язык. Профессионально-ориентированный курс
LOCATION:Мех. к. Учеб. кл. №2
END:VEVENT
BEGIN:VEVENT
UID:n53x@192.168.245.71:3006
SEQUENCE:0
DTSTAMP:20260424T143417Z
DTSTART:20251024T070000Z
DTEND:20251024T084000Z
SUMMARY:Компьютерные технологии САПР (на английском языке)
LOCATION:Мех. к. Комп. кл. КВХТ №37
END:VEVENT
BEGIN:VEVENT
UID:gy8n@192.168.245.71:3006
SEQUENCE:0
DTSTAMP:20260424T143417Z
DTSTART:20251024T090000Z
DTEND:20251024T104000Z
SUMMARY:Проектирование ДВС
LOCATION:Мех. к. Учебная лаб. ДВС №84
END:VEVENT
BEGIN:VEVENT
UID:4ivq@192.168.245.71:3006
SEQUENCE:0
DTSTAMP:20260424T143417Z
DTSTART:20251024T110000Z
DTEND:20251024T124000Z
SUMMARY:Химмотология
LOCATION:ГЗ 282
END:VEVENT
BEGIN:VEVENT
UID:ivt1@192.168.245.71:3006
SEQUENCE:0
DTSTAMP:20260424T143417Z
DTSTART:20251025T050000Z
DTEND:20251025T083000Z
SUMMARY:Военная подготовка
LOCATION:Военная каф. кафедра
END:VEVENT
END:VCALENDAR