BEGIN:VCALENDAR
VERSION:2.0
PRODID:-//spbstu.ru//ical//RU
NAME:Расписание группы 3231303/30401
X-WR-CALNAME:Расписание группы 3231303/30401
TIMEZONE-ID:Europe/Moscow
X-WR-TIMEZONE:Europe/Moscow
BEGIN:VEVENT
UID:6zow@192.168.245.71:3006
SEQUENCE:0
DTSTAMP:20260423T141331Z
DTSTART:20251110T070000Z
DTEND:20251110T084000Z
SUMMARY:Теплообмен
LOCATION:ГЗ 153
END:VEVENT
BEGIN:VEVENT
UID:ps60@192.168.245.71:3006
SEQUENCE:0
DTSTAMP:20260423T141331Z
DTSTART:20251110T090000Z
DTEND:20251110T104000Z
SUMMARY:Теоретические основы ДВС
LOCATION:Мех. к. Уч. кл. ДВС №82
END:VEVENT
BEGIN:VEVENT
UID:ngjz@192.168.245.71:3006
SEQUENCE:0
DTSTAMP:20260423T141331Z
DTSTART:20251110T110000Z
DTEND:20251110T124000Z
SUMMARY:Теплообмен
LOCATION:Хим. к. Лаб.№10 Тепло- и массообмен
END:VEVENT
BEGIN:VEVENT
UID:xh7n@192.168.245.71:3006
SEQUENCE:0
DTSTAMP:20260423T141331Z
DTSTART:20251111T090000Z
DTEND:20251111T104000Z
SUMMARY:Теоретические основы ДВС
LOCATION:Мех. к. Учебная лаб. ДВС №84
END:VEVENT
BEGIN:VEVENT
UID:3ndz@192.168.245.71:3006
SEQUENCE:0
DTSTAMP:20260423T141331Z
DTSTART:20251111T110000Z
DTEND:20251111T124000Z
SUMMARY:Турбины
LOCATION:ГЗ 225
END:VEVENT
BEGIN:VEVENT
UID:rjf1@192.168.245.71:3006
SEQUENCE:0
DTSTAMP:20260423T141331Z
DTSTART:20251112T070000Z
DTEND:20251112T143000Z
SUMMARY:Военная подготовка
LOCATION:Военная каф. кафедра
END:VEVENT
BEGIN:VEVENT
UID:ayl1@192.168.245.71:3006
SEQUENCE:0
DTSTAMP:20260423T141331Z
DTSTART:20251113T070000Z
DTEND:20251113T084000Z
SUMMARY:Компьютерные технологии САПР (на английском языке)
LOCATION:Мех. к. Комп. кл. КВХТ №37
END:VEVENT
BEGIN:VEVENT
UID:l2z4@192.168.245.71:3006
SEQUENCE:0
DTSTAMP:20260423T141331Z
DTSTART:20251113T090000Z
DTEND:20251113T104000Z
SUMMARY:Двигатели внутреннего сгорания
LOCATION:ГЗ 215
END:VEVENT
BEGIN:VEVENT
UID:2cxj@192.168.245.71:3006
SEQUENCE:0
DTSTAMP:20260423T141331Z
DTSTART:20251113T110000Z
DTEND:20251113T124000Z
SUMMARY:Теплообмен
LOCATION:Мех. к. Комп. кл. №7
END:VEVENT
BEGIN:VEVENT
UID:fl29@192.168.245.71:3006
SEQUENCE:0
DTSTAMP:20260423T141331Z
DTSTART:20251114T070000Z
DTEND:20251114T084000Z
SUMMARY:Проектирование ДВС
LOCATION:Мех. к. Учебная лаб. ДВС №84
END:VEVENT
BEGIN:VEVENT
UID:j2lv@192.168.245.71:3006
SEQUENCE:0
DTSTAMP:20260423T141331Z
DTSTART:20251114T090000Z
DTEND:20251114T104000Z
SUMMARY:Проектирование ДВС
LOCATION:Мех. к. Учебная лаб. ДВС №84
END:VEVENT
BEGIN:VEVENT
UID:vus7@192.168.245.71:3006
SEQUENCE:0
DTSTAMP:20260423T141331Z
DTSTART:20251114T110000Z
DTEND:20251114T124000Z
SUMMARY:Химмотология
LOCATION:ГЗ 282
END:VEVENT
BEGIN:VEVENT
UID:5583@192.168.245.71:3006
SEQUENCE:0
DTSTAMP:20260423T141331Z
DTSTART:20251115T050000Z
DTEND:20251115T083000Z
SUMMARY:Военная подготовка
LOCATION:Военная каф. кафедра
END:VEVENT
END:VCALENDAR