BEGIN:VCALENDAR
VERSION:2.0
PRODID:-//spbstu.ru//ical//RU
NAME:Расписание группы 3231303/30401
X-WR-CALNAME:Расписание группы 3231303/30401
TIMEZONE-ID:Europe/Moscow
X-WR-TIMEZONE:Europe/Moscow
BEGIN:VEVENT
UID:s9ol@192.168.245.71:3006
SEQUENCE:0
DTSTAMP:20260423T171629Z
DTSTART:20251117T070000Z
DTEND:20251117T084000Z
SUMMARY:Теплообмен
LOCATION:ГЗ 153
END:VEVENT
BEGIN:VEVENT
UID:x3n8@192.168.245.71:3006
SEQUENCE:0
DTSTAMP:20260423T171629Z
DTSTART:20251117T090000Z
DTEND:20251117T104000Z
SUMMARY:Теоретические основы ДВС
LOCATION:Мех. к. Уч. кл. ДВС №82
END:VEVENT
BEGIN:VEVENT
UID:v5nb@192.168.245.71:3006
SEQUENCE:0
DTSTAMP:20260423T171629Z
DTSTART:20251117T110000Z
DTEND:20251117T124000Z
SUMMARY:Теплообмен
LOCATION:Хим. к. Лаб.№10 Тепло- и массообмен
END:VEVENT
BEGIN:VEVENT
UID:v6xr@192.168.245.71:3006
SEQUENCE:0
DTSTAMP:20260423T171629Z
DTSTART:20251118T090000Z
DTEND:20251118T104000Z
SUMMARY:Теоретические основы ДВС
LOCATION:Мех. к. Учебная лаб. ДВС №84
END:VEVENT
BEGIN:VEVENT
UID:z3jc@192.168.245.71:3006
SEQUENCE:0
DTSTAMP:20260423T171629Z
DTSTART:20251118T110000Z
DTEND:20251118T124000Z
SUMMARY:Гидромашины
LOCATION:ГЗ 225
END:VEVENT
BEGIN:VEVENT
UID:ev0g@192.168.245.71:3006
SEQUENCE:0
DTSTAMP:20260423T171629Z
DTSTART:20251119T070000Z
DTEND:20251119T143000Z
SUMMARY:Военная подготовка
LOCATION:Военная каф. кафедра
END:VEVENT
BEGIN:VEVENT
UID:klrv@192.168.245.71:3006
SEQUENCE:0
DTSTAMP:20260423T171629Z
DTSTART:20251120T070000Z
DTEND:20251120T084000Z
SUMMARY:Компьютерные технологии САПР (на английском языке)
LOCATION:Мех. к. Комп. кл. КВХТ №37
END:VEVENT
BEGIN:VEVENT
UID:iom1@192.168.245.71:3006
SEQUENCE:0
DTSTAMP:20260423T171629Z
DTSTART:20251120T090000Z
DTEND:20251120T104000Z
SUMMARY:Компрессоры
LOCATION:ГЗ 215
END:VEVENT
BEGIN:VEVENT
UID:ilbm@192.168.245.71:3006
SEQUENCE:0
DTSTAMP:20260423T171629Z
DTSTART:20251120T110000Z
DTEND:20251120T124000Z
SUMMARY:Иностранный язык. Профессионально-ориентированный курс
LOCATION:Мех. к. Учеб. кл. №2
END:VEVENT
BEGIN:VEVENT
UID:7szn@192.168.245.71:3006
SEQUENCE:0
DTSTAMP:20260423T171629Z
DTSTART:20251121T070000Z
DTEND:20251121T084000Z
SUMMARY:Компьютерные технологии САПР (на английском языке)
LOCATION:Мех. к. Комп. кл. КВХТ №37
END:VEVENT
BEGIN:VEVENT
UID:y9y1@192.168.245.71:3006
SEQUENCE:0
DTSTAMP:20260423T171629Z
DTSTART:20251121T090000Z
DTEND:20251121T104000Z
SUMMARY:Проектирование ДВС
LOCATION:Мех. к. Учебная лаб. ДВС №84
END:VEVENT
BEGIN:VEVENT
UID:404d@192.168.245.71:3006
SEQUENCE:0
DTSTAMP:20260423T171629Z
DTSTART:20251121T110000Z
DTEND:20251121T124000Z
SUMMARY:Химмотология
LOCATION:ГЗ 282
END:VEVENT
BEGIN:VEVENT
UID:1z5a@192.168.245.71:3006
SEQUENCE:0
DTSTAMP:20260423T171629Z
DTSTART:20251122T050000Z
DTEND:20251122T083000Z
SUMMARY:Военная подготовка
LOCATION:Военная каф. кафедра
END:VEVENT
END:VCALENDAR