BEGIN:VCALENDAR
VERSION:2.0
PRODID:-//spbstu.ru//ical//RU
NAME:Расписание группы 3231303/30401
X-WR-CALNAME:Расписание группы 3231303/30401
TIMEZONE-ID:Europe/Moscow
X-WR-TIMEZONE:Europe/Moscow
BEGIN:VEVENT
UID:odnr@192.168.245.71:3006
SEQUENCE:0
DTSTAMP:20260421T072840Z
DTSTART:20260302T090000Z
DTEND:20260302T104000Z
SUMMARY:Теплотехнические измерения и приборы
LOCATION:Мех. к. 14
END:VEVENT
BEGIN:VEVENT
UID:o0ss@192.168.245.71:3006
SEQUENCE:0
DTSTAMP:20260421T072840Z
DTSTART:20260302T110000Z
DTEND:20260302T124000Z
SUMMARY:Динамика и прочность энергетических машин
LOCATION:Мех. к. Учебная лаб. ДВС №84
END:VEVENT
BEGIN:VEVENT
UID:fne5@192.168.245.71:3006
SEQUENCE:0
DTSTAMP:20260421T072840Z
DTSTART:20260302T130000Z
DTEND:20260302T144000Z
SUMMARY:Динамика и прочность энергетических машин
LOCATION:Мех. к. Учебная лаб. ДВС №84
END:VEVENT
BEGIN:VEVENT
UID:lk14@192.168.245.71:3006
SEQUENCE:0
DTSTAMP:20260421T072840Z
DTSTART:20260303T070000Z
DTEND:20260303T084000Z
SUMMARY:ЕСКД
LOCATION:ТВН ГМ уч.ауд.№201
END:VEVENT
BEGIN:VEVENT
UID:q5yt@192.168.245.71:3006
SEQUENCE:0
DTSTAMP:20260421T072840Z
DTSTART:20260303T090000Z
DTEND:20260303T104000Z
SUMMARY:Рабочие процессы ДВС
LOCATION:Мех. к. Учебная лаб. ДВС №84
END:VEVENT
BEGIN:VEVENT
UID:dt1q@192.168.245.71:3006
SEQUENCE:0
DTSTAMP:20260421T072840Z
DTSTART:20260303T110000Z
DTEND:20260303T124000Z
SUMMARY:Рабочие процессы ДВС
LOCATION:Мех. к. Учебная лаб. ДВС №84
END:VEVENT
BEGIN:VEVENT
UID:5t4x@192.168.245.71:3006
SEQUENCE:0
DTSTAMP:20260421T072840Z
DTSTART:20260304T070000Z
DTEND:20260304T143000Z
SUMMARY:Военная подготовка
LOCATION:Военная каф. кафедра
END:VEVENT
BEGIN:VEVENT
UID:o39h@192.168.245.71:3006
SEQUENCE:0
DTSTAMP:20260421T072840Z
DTSTART:20260305T070000Z
DTEND:20260305T084000Z
SUMMARY:Проектирование ДВС
LOCATION:Мех. к. Учебная лаб. ДВС №84
END:VEVENT
BEGIN:VEVENT
UID:v53m@192.168.245.71:3006
SEQUENCE:0
DTSTAMP:20260421T072840Z
DTSTART:20260305T090000Z
DTEND:20260305T104000Z
SUMMARY:Проектирование ДВС
LOCATION:Мех. к. Учебная лаб. ДВС №84
END:VEVENT
BEGIN:VEVENT
UID:zmiw@192.168.245.71:3006
SEQUENCE:0
DTSTAMP:20260421T072840Z
DTSTART:20260305T110000Z
DTEND:20260305T124000Z
SUMMARY:Системы ДВС
LOCATION:Мех. к. Уч. кл. ДВС №82
END:VEVENT
BEGIN:VEVENT
UID:2zzq@192.168.245.71:3006
SEQUENCE:0
DTSTAMP:20260421T072840Z
DTSTART:20260305T130000Z
DTEND:20260305T144000Z
SUMMARY:Теплотехнические измерения и приборы
LOCATION:ГЗ 284
END:VEVENT
BEGIN:VEVENT
UID:njsx@192.168.245.71:3006
SEQUENCE:0
DTSTAMP:20260421T072840Z
DTSTART:20260306T070000Z
DTEND:20260306T084000Z
SUMMARY:Теория автоматического управления
LOCATION:Мех. к. Уч. кл. ДВС №82
END:VEVENT
BEGIN:VEVENT
UID:have@192.168.245.71:3006
SEQUENCE:0
DTSTAMP:20260421T072840Z
DTSTART:20260306T090000Z
DTEND:20260306T104000Z
SUMMARY:Теория автоматического управления
LOCATION:Мех. к. Уч. кл. ДВС №82
END:VEVENT
BEGIN:VEVENT
UID:ap9i@192.168.245.71:3006
SEQUENCE:0
DTSTAMP:20260421T072840Z
DTSTART:20260306T110000Z
DTEND:20260306T124000Z
SUMMARY:Планирование эксперимента и обработка экспериментальных данных
LOCATION:Мех. к. Уч. кл. ДВС №82
END:VEVENT
END:VCALENDAR