BEGIN:VCALENDAR
VERSION:2.0
PRODID:-//spbstu.ru//ical//RU
NAME:Расписание группы 3231303/30401
X-WR-CALNAME:Расписание группы 3231303/30401
TIMEZONE-ID:Europe/Moscow
X-WR-TIMEZONE:Europe/Moscow
BEGIN:VEVENT
UID:23r4@192.168.245.71:3006
SEQUENCE:0
DTSTAMP:20260421T001250Z
DTSTART:20260330T090000Z
DTEND:20260330T104000Z
SUMMARY:Теплотехнические измерения и приборы
LOCATION:Мех. к. 14
END:VEVENT
BEGIN:VEVENT
UID:y31t@192.168.245.71:3006
SEQUENCE:0
DTSTAMP:20260421T001250Z
DTSTART:20260330T110000Z
DTEND:20260330T124000Z
SUMMARY:Динамика и прочность энергетических машин
LOCATION:Мех. к. Учебная лаб. ДВС №84
END:VEVENT
BEGIN:VEVENT
UID:r9qj@192.168.245.71:3006
SEQUENCE:0
DTSTAMP:20260421T001250Z
DTSTART:20260330T130000Z
DTEND:20260330T144000Z
SUMMARY:Динамика и прочность энергетических машин
LOCATION:Мех. к. Учебная лаб. ДВС №84
END:VEVENT
BEGIN:VEVENT
UID:714z@192.168.245.71:3006
SEQUENCE:0
DTSTAMP:20260421T001250Z
DTSTART:20260331T070000Z
DTEND:20260331T084000Z
SUMMARY:ЕСКД
LOCATION:ТВН ГМ уч.ауд.№201
END:VEVENT
BEGIN:VEVENT
UID:5mvi@192.168.245.71:3006
SEQUENCE:0
DTSTAMP:20260421T001250Z
DTSTART:20260331T090000Z
DTEND:20260331T104000Z
SUMMARY:Рабочие процессы ДВС
LOCATION:Мех. к. Учебная лаб. ДВС №84
END:VEVENT
BEGIN:VEVENT
UID:89hc@192.168.245.71:3006
SEQUENCE:0
DTSTAMP:20260421T001250Z
DTSTART:20260331T110000Z
DTEND:20260331T124000Z
SUMMARY:Рабочие процессы ДВС
LOCATION:Мех. к. Учебная лаб. ДВС №84
END:VEVENT
BEGIN:VEVENT
UID:e2js@192.168.245.71:3006
SEQUENCE:0
DTSTAMP:20260421T001250Z
DTSTART:20260401T070000Z
DTEND:20260401T143000Z
SUMMARY:Военная подготовка
LOCATION:Военная каф. кафедра
END:VEVENT
BEGIN:VEVENT
UID:4xiz@192.168.245.71:3006
SEQUENCE:0
DTSTAMP:20260421T001250Z
DTSTART:20260402T070000Z
DTEND:20260402T084000Z
SUMMARY:Проектирование ДВС
LOCATION:Мех. к. Учебная лаб. ДВС №84
END:VEVENT
BEGIN:VEVENT
UID:3zhe@192.168.245.71:3006
SEQUENCE:0
DTSTAMP:20260421T001250Z
DTSTART:20260402T090000Z
DTEND:20260402T104000Z
SUMMARY:Проектирование ДВС
LOCATION:Мех. к. Учебная лаб. ДВС №84
END:VEVENT
BEGIN:VEVENT
UID:wl7l@192.168.245.71:3006
SEQUENCE:0
DTSTAMP:20260421T001250Z
DTSTART:20260402T110000Z
DTEND:20260402T124000Z
SUMMARY:Системы ДВС
LOCATION:Мех. к. Уч. кл. ДВС №82
END:VEVENT
BEGIN:VEVENT
UID:j90k@192.168.245.71:3006
SEQUENCE:0
DTSTAMP:20260421T001250Z
DTSTART:20260402T130000Z
DTEND:20260402T144000Z
SUMMARY:Теплотехнические измерения и приборы
LOCATION:ГЗ 284
END:VEVENT
BEGIN:VEVENT
UID:cspn@192.168.245.71:3006
SEQUENCE:0
DTSTAMP:20260421T001250Z
DTSTART:20260403T070000Z
DTEND:20260403T084000Z
SUMMARY:Теория автоматического управления
LOCATION:Мех. к. Уч. кл. ДВС №82
END:VEVENT
BEGIN:VEVENT
UID:wpa4@192.168.245.71:3006
SEQUENCE:0
DTSTAMP:20260421T001250Z
DTSTART:20260403T090000Z
DTEND:20260403T104000Z
SUMMARY:Теория автоматического управления
LOCATION:Мех. к. Уч. кл. ДВС №82
END:VEVENT
BEGIN:VEVENT
UID:1gr9@192.168.245.71:3006
SEQUENCE:0
DTSTAMP:20260421T001250Z
DTSTART:20260403T110000Z
DTEND:20260403T124000Z
SUMMARY:Планирование эксперимента и обработка экспериментальных данных
LOCATION:Мех. к. Уч. кл. ДВС №82
END:VEVENT
END:VCALENDAR