BEGIN:VCALENDAR
VERSION:2.0
PRODID:-//spbstu.ru//ical//RU
NAME:Расписание группы 3231303/30401
X-WR-CALNAME:Расписание группы 3231303/30401
TIMEZONE-ID:Europe/Moscow
X-WR-TIMEZONE:Europe/Moscow
BEGIN:VEVENT
UID:v034@192.168.245.71:3006
SEQUENCE:0
DTSTAMP:20260420T185322Z
DTSTART:20260420T090000Z
DTEND:20260420T104000Z
SUMMARY:Теплотехнические измерения и приборы
LOCATION:Мех. к. 14
END:VEVENT
BEGIN:VEVENT
UID:e3sj@192.168.245.71:3006
SEQUENCE:0
DTSTAMP:20260420T185322Z
DTSTART:20260420T110000Z
DTEND:20260420T124000Z
SUMMARY:Динамика и прочность энергетических машин
LOCATION:Мех. к. Учебная лаб. ДВС №84
END:VEVENT
BEGIN:VEVENT
UID:vn71@192.168.245.71:3006
SEQUENCE:0
DTSTAMP:20260420T185322Z
DTSTART:20260420T130000Z
DTEND:20260420T144000Z
SUMMARY:Динамика и прочность энергетических машин
LOCATION:Мех. к. Учебная лаб. ДВС №84
END:VEVENT
BEGIN:VEVENT
UID:1arv@192.168.245.71:3006
SEQUENCE:0
DTSTAMP:20260420T185322Z
DTSTART:20260421T070000Z
DTEND:20260421T084000Z
SUMMARY:ЕСКД
LOCATION:ТВН ГМ уч.ауд.№201
END:VEVENT
BEGIN:VEVENT
UID:nvwb@192.168.245.71:3006
SEQUENCE:0
DTSTAMP:20260420T185322Z
DTSTART:20260421T090000Z
DTEND:20260421T104000Z
SUMMARY:Рабочие процессы ДВС
LOCATION:Мех. к. Учебная лаб. ДВС №84
END:VEVENT
BEGIN:VEVENT
UID:3vhy@192.168.245.71:3006
SEQUENCE:0
DTSTAMP:20260420T185322Z
DTSTART:20260421T110000Z
DTEND:20260421T124000Z
SUMMARY:Рабочие процессы ДВС
LOCATION:Мех. к. Учебная лаб. ДВС №84
END:VEVENT
BEGIN:VEVENT
UID:0ayw@192.168.245.71:3006
SEQUENCE:0
DTSTAMP:20260420T185322Z
DTSTART:20260422T070000Z
DTEND:20260422T143000Z
SUMMARY:Военная подготовка
LOCATION:Военная каф. кафедра
END:VEVENT
BEGIN:VEVENT
UID:hxyp@192.168.245.71:3006
SEQUENCE:0
DTSTAMP:20260420T185322Z
DTSTART:20260423T050000Z
DTEND:20260423T064000Z
SUMMARY:ЕСКД
LOCATION:ГЗ 122
END:VEVENT
BEGIN:VEVENT
UID:s7f6@192.168.245.71:3006
SEQUENCE:0
DTSTAMP:20260420T185322Z
DTSTART:20260423T070000Z
DTEND:20260423T084000Z
SUMMARY:Проектирование ДВС
LOCATION:Мех. к. Учебная лаб. ДВС №84
END:VEVENT
BEGIN:VEVENT
UID:wnw9@192.168.245.71:3006
SEQUENCE:0
DTSTAMP:20260420T185322Z
DTSTART:20260423T090000Z
DTEND:20260423T104000Z
SUMMARY:Системы ДВС
LOCATION:Мех. к. Уч. кл. ДВС №82
END:VEVENT
BEGIN:VEVENT
UID:n4iu@192.168.245.71:3006
SEQUENCE:0
DTSTAMP:20260420T185322Z
DTSTART:20260423T110000Z
DTEND:20260423T124000Z
SUMMARY:Системы ДВС
LOCATION:Мех. к. Уч. кл. ДВС №82
END:VEVENT
BEGIN:VEVENT
UID:6go1@192.168.245.71:3006
SEQUENCE:0
DTSTAMP:20260420T185322Z
DTSTART:20260424T070000Z
DTEND:20260424T084000Z
SUMMARY:Теория автоматического управления
LOCATION:Мех. к. Уч. кл. ДВС №82
END:VEVENT
BEGIN:VEVENT
UID:ji35@192.168.245.71:3006
SEQUENCE:0
DTSTAMP:20260420T185322Z
DTSTART:20260424T090000Z
DTEND:20260424T104000Z
SUMMARY:Инженерный практикум
LOCATION:Мех. к. Уч. кл. ДВС №82
END:VEVENT
BEGIN:VEVENT
UID:4sqn@192.168.245.71:3006
SEQUENCE:0
DTSTAMP:20260420T185322Z
DTSTART:20260424T110000Z
DTEND:20260424T124000Z
SUMMARY:Планирование эксперимента и обработка экспериментальных данных
LOCATION:Мех. к. Уч. кл. ДВС №82
END:VEVENT
END:VCALENDAR