BEGIN:VCALENDAR
VERSION:2.0
PRODID:-//spbstu.ru//ical//RU
NAME:Расписание группы 3231303/30501
X-WR-CALNAME:Расписание группы 3231303/30501
TIMEZONE-ID:Europe/Moscow
X-WR-TIMEZONE:Europe/Moscow
BEGIN:VEVENT
UID:0rzs@192.168.245.71:3006
SEQUENCE:0
DTSTAMP:20260423T180353Z
DTSTART:20251020T070000Z
DTEND:20251020T084000Z
SUMMARY:Теплообмен
LOCATION:ГЗ 153
END:VEVENT
BEGIN:VEVENT
UID:q3nw@192.168.245.71:3006
SEQUENCE:0
DTSTAMP:20260423T180353Z
DTSTART:20251020T090000Z
DTEND:20251020T104000Z
SUMMARY:Компьютерные технологии САПР (на английском языке)
LOCATION:Мех. к. Комп. кл. КВХТ №37
END:VEVENT
BEGIN:VEVENT
UID:llur@192.168.245.71:3006
SEQUENCE:0
DTSTAMP:20260423T180353Z
DTSTART:20251020T110000Z
DTEND:20251020T124000Z
SUMMARY:Гидравлика
LOCATION:ТВН ГМ уч.ауд.№304
END:VEVENT
BEGIN:VEVENT
UID:gjlf@192.168.245.71:3006
SEQUENCE:0
DTSTAMP:20260423T180353Z
DTSTART:20251021T090000Z
DTEND:20251021T104000Z
SUMMARY:Лопастные гидромашины и гидропередачи
LOCATION:ТВН 203
END:VEVENT
BEGIN:VEVENT
UID:s892@192.168.245.71:3006
SEQUENCE:0
DTSTAMP:20260423T180353Z
DTSTART:20251021T110000Z
DTEND:20251021T124000Z
SUMMARY:Гидромашины
LOCATION:ГЗ 225
END:VEVENT
BEGIN:VEVENT
UID:lusv@192.168.245.71:3006
SEQUENCE:0
DTSTAMP:20260423T180353Z
DTSTART:20251022T070000Z
DTEND:20251022T143000Z
SUMMARY:Военная подготовка
LOCATION:Военная каф. кафедра
END:VEVENT
BEGIN:VEVENT
UID:i5qw@192.168.245.71:3006
SEQUENCE:0
DTSTAMP:20260423T180353Z
DTSTART:20251023T070000Z
DTEND:20251023T084000Z
SUMMARY:Иностранный язык. Профессионально-ориентированный курс
LOCATION:Мех. к. Учеб. кл. №2
END:VEVENT
BEGIN:VEVENT
UID:j0jm@192.168.245.71:3006
SEQUENCE:0
DTSTAMP:20260423T180353Z
DTSTART:20251023T090000Z
DTEND:20251023T104000Z
SUMMARY:Компрессоры
LOCATION:ГЗ 215
END:VEVENT
BEGIN:VEVENT
UID:mma6@192.168.245.71:3006
SEQUENCE:0
DTSTAMP:20260423T180353Z
DTSTART:20251023T110000Z
DTEND:20251023T124000Z
SUMMARY:Гидравлика
LOCATION:ТВН ГМ уч.ауд.№304
END:VEVENT
BEGIN:VEVENT
UID:zxp0@192.168.245.71:3006
SEQUENCE:0
DTSTAMP:20260423T180353Z
DTSTART:20251023T130000Z
DTEND:20251023T144000Z
SUMMARY:Компьютерные технологии САПР (на английском языке)
LOCATION:Мех. к. Комп. кл. КВХТ №37
END:VEVENT
BEGIN:VEVENT
UID:jwes@192.168.245.71:3006
SEQUENCE:0
DTSTAMP:20260423T180353Z
DTSTART:20251024T110000Z
DTEND:20251024T124000Z
SUMMARY:Химмотология
LOCATION:ГЗ 282
END:VEVENT
BEGIN:VEVENT
UID:8a4j@192.168.245.71:3006
SEQUENCE:0
DTSTAMP:20260423T180353Z
DTSTART:20251024T130000Z
DTEND:20251024T144000Z
SUMMARY:Теплообмен
LOCATION:Хим. к. 9
END:VEVENT
BEGIN:VEVENT
UID:f94u@192.168.245.71:3006
SEQUENCE:0
DTSTAMP:20260423T180353Z
DTSTART:20251025T050000Z
DTEND:20251025T083000Z
SUMMARY:Военная подготовка
LOCATION:Военная каф. кафедра
END:VEVENT
BEGIN:VEVENT
UID:g0k9@192.168.245.71:3006
SEQUENCE:0
DTSTAMP:20260423T180353Z
DTSTART:20251025T090000Z
DTEND:20251025T104000Z
SUMMARY:Гидроэнергетические установки
LOCATION:ТВН 203
END:VEVENT
BEGIN:VEVENT
UID:86ww@192.168.245.71:3006
SEQUENCE:0
DTSTAMP:20260423T180353Z
DTSTART:20251025T110000Z
DTEND:20251025T124000Z
SUMMARY:Гидроэнергетические установки
LOCATION:ТВН 203
END:VEVENT
BEGIN:VEVENT
UID:82i4@192.168.245.71:3006
SEQUENCE:0
DTSTAMP:20260423T180353Z
DTSTART:20251025T130000Z
DTEND:20251025T144000Z
SUMMARY:Гидроэнергетические установки
LOCATION:ТВН 203
END:VEVENT
END:VCALENDAR