BEGIN:VCALENDAR
VERSION:2.0
PRODID:-//spbstu.ru//ical//RU
NAME:Расписание группы 3231303/30501
X-WR-CALNAME:Расписание группы 3231303/30501
TIMEZONE-ID:Europe/Moscow
X-WR-TIMEZONE:Europe/Moscow
BEGIN:VEVENT
UID:ubdk@192.168.245.71:3006
SEQUENCE:0
DTSTAMP:20260422T145418Z
DTSTART:20251222T100000Z
DTEND:20251222T130000Z
SUMMARY:Турбины
LOCATION:Мех. к. Лаб.турбиностроения им. И.И. Кириллова
END:VEVENT
BEGIN:VEVENT
UID:t6x2@192.168.245.71:3006
SEQUENCE:0
DTSTAMP:20260422T145418Z
DTSTART:20251224T070000Z
DTEND:20251224T110000Z
SUMMARY:Гидравлика
LOCATION:ТВН 203
END:VEVENT
BEGIN:VEVENT
UID:hplh@192.168.245.71:3006
SEQUENCE:0
DTSTAMP:20260422T145418Z
DTSTART:20251226T070000Z
DTEND:20251226T090000Z
SUMMARY:Лопастные гидромашины и гидропередачи
LOCATION:ТВН 203
END:VEVENT
BEGIN:VEVENT
UID:sak7@192.168.245.71:3006
SEQUENCE:0
DTSTAMP:20260422T145418Z
DTSTART:20251226T090000Z
DTEND:20251226T130000Z
SUMMARY:Лопастные гидромашины и гидропередачи
LOCATION:ТВН 203
END:VEVENT
BEGIN:VEVENT
UID:8l48@192.168.245.71:3006
SEQUENCE:0
DTSTAMP:20260422T145418Z
DTSTART:20251227T090000Z
DTEND:20251227T130000Z
SUMMARY:Компьютерные технологии САПР (на английском языке)
LOCATION:Мех. к. Лаб. компрессоростроения №38
END:VEVENT
END:VCALENDAR