BEGIN:VCALENDAR
VERSION:2.0
PRODID:-//spbstu.ru//ical//RU
NAME:Расписание группы 3231303/30501
X-WR-CALNAME:Расписание группы 3231303/30501
TIMEZONE-ID:Europe/Moscow
X-WR-TIMEZONE:Europe/Moscow
BEGIN:VEVENT
UID:t3ds@192.168.245.71:3006
SEQUENCE:0
DTSTAMP:20260422T065957Z
DTSTART:20260112T070000Z
DTEND:20260112T100000Z
SUMMARY:Образовательный форсайт
LOCATION:ГЗ 244
END:VEVENT
BEGIN:VEVENT
UID:gblk@192.168.245.71:3006
SEQUENCE:0
DTSTAMP:20260422T065957Z
DTSTART:20260113T090000Z
DTEND:20260113T104000Z
SUMMARY:Иностранный язык. Профессионально-ориентированный курс
LOCATION:ГЗ 253
END:VEVENT
BEGIN:VEVENT
UID:x2c3@192.168.245.71:3006
SEQUENCE:0
DTSTAMP:20260422T065957Z
DTSTART:20260115T070000Z
DTEND:20260115T130000Z
SUMMARY:Иностранный язык. Профессионально-ориентированный курс
LOCATION:ГЗ 227
END:VEVENT
BEGIN:VEVENT
UID:3aw3@192.168.245.71:3006
SEQUENCE:0
DTSTAMP:20260422T065957Z
DTSTART:20260117T070000Z
DTEND:20260117T084000Z
SUMMARY:Теплообмен
LOCATION:ГЗ 240
END:VEVENT
END:VCALENDAR