BEGIN:VCALENDAR
VERSION:2.0
PRODID:-//spbstu.ru//ical//RU
NAME:Расписание группы 3231303/30501
X-WR-CALNAME:Расписание группы 3231303/30501
TIMEZONE-ID:Europe/Moscow
X-WR-TIMEZONE:Europe/Moscow
BEGIN:VEVENT
UID:jlx6@192.168.245.71:3006
SEQUENCE:0
DTSTAMP:20260421T090926Z
DTSTART:20260310T070000Z
DTEND:20260310T084000Z
SUMMARY:Объёмные гидромашины и гидроприводы
LOCATION:ТВН ГМ уч.ауд.№316
END:VEVENT
BEGIN:VEVENT
UID:2nkj@192.168.245.71:3006
SEQUENCE:0
DTSTAMP:20260421T090926Z
DTSTART:20260310T090000Z
DTEND:20260310T104000Z
SUMMARY:ЕСКД
LOCATION:ТВН ГМ уч.ауд.№201
END:VEVENT
BEGIN:VEVENT
UID:ffmw@192.168.245.71:3006
SEQUENCE:0
DTSTAMP:20260421T090926Z
DTSTART:20260310T110000Z
DTEND:20260310T124000Z
SUMMARY:Теплотехнические измерения и приборы
LOCATION:Мех. к. 14
END:VEVENT
BEGIN:VEVENT
UID:4u49@192.168.245.71:3006
SEQUENCE:0
DTSTAMP:20260421T090926Z
DTSTART:20260310T130000Z
DTEND:20260310T144000Z
SUMMARY:Лопастные гидромашины и гидропередачи
LOCATION:ТВН ГМ уч.ауд.№304
END:VEVENT
BEGIN:VEVENT
UID:vumm@192.168.245.71:3006
SEQUENCE:0
DTSTAMP:20260421T090926Z
DTSTART:20260311T070000Z
DTEND:20260311T143000Z
SUMMARY:Военная подготовка
LOCATION:Военная каф. кафедра
END:VEVENT
BEGIN:VEVENT
UID:svh3@192.168.245.71:3006
SEQUENCE:0
DTSTAMP:20260421T090926Z
DTSTART:20260312T050000Z
DTEND:20260312T064000Z
SUMMARY:ЕСКД
LOCATION:ГЗ 122
END:VEVENT
BEGIN:VEVENT
UID:cde4@192.168.245.71:3006
SEQUENCE:0
DTSTAMP:20260421T090926Z
DTSTART:20260312T070000Z
DTEND:20260312T084000Z
SUMMARY:Инженерный практикум
LOCATION:ТВН ГМ уч.ауд.№316
END:VEVENT
BEGIN:VEVENT
UID:w77f@192.168.245.71:3006
SEQUENCE:0
DTSTAMP:20260421T090926Z
DTSTART:20260312T090000Z
DTEND:20260312T104000Z
SUMMARY:Теория автоматического управления
LOCATION:ГЗ 212
END:VEVENT
BEGIN:VEVENT
UID:6xco@192.168.245.71:3006
SEQUENCE:0
DTSTAMP:20260421T090926Z
DTSTART:20260312T110000Z
DTEND:20260312T124000Z
SUMMARY:Объёмные гидромашины и гидроприводы
LOCATION:ГЗ 212
END:VEVENT
BEGIN:VEVENT
UID:xtei@192.168.245.71:3006
SEQUENCE:0
DTSTAMP:20260421T090926Z
DTSTART:20260313T070000Z
DTEND:20260313T084000Z
SUMMARY:Динамика и прочность энергетических машин
LOCATION:ТВН ГМ уч.ауд.№304
END:VEVENT
BEGIN:VEVENT
UID:q8jv@192.168.245.71:3006
SEQUENCE:0
DTSTAMP:20260421T090926Z
DTSTART:20260313T090000Z
DTEND:20260313T104000Z
SUMMARY:Динамические насосы\, расчет лопастных систем
LOCATION:ТВН ГМ уч.ауд.№316
END:VEVENT
BEGIN:VEVENT
UID:05p4@192.168.245.71:3006
SEQUENCE:0
DTSTAMP:20260421T090926Z
DTSTART:20260313T110000Z
DTEND:20260313T124000Z
SUMMARY:Динамика и прочность энергетических машин
LOCATION:ТВН ГМ уч.ауд.№316
END:VEVENT
BEGIN:VEVENT
UID:i5tf@192.168.245.71:3006
SEQUENCE:0
DTSTAMP:20260421T090926Z
DTSTART:20260313T130000Z
DTEND:20260313T144000Z
SUMMARY:Динамика и прочность энергетических машин
LOCATION:ТВН ГМ уч.ауд.№304
END:VEVENT
END:VCALENDAR