BEGIN:VCALENDAR
VERSION:2.0
PRODID:-//spbstu.ru//ical//RU
NAME:Расписание группы 3231303/30601
X-WR-CALNAME:Расписание группы 3231303/30601
TIMEZONE-ID:Europe/Moscow
X-WR-TIMEZONE:Europe/Moscow
BEGIN:VEVENT
UID:rvlx@192.168.245.71:3006
SEQUENCE:0
DTSTAMP:20260423T002428Z
DTSTART:20251124T070000Z
DTEND:20251124T084000Z
SUMMARY:Теплообмен
LOCATION:ГЗ 153
END:VEVENT
BEGIN:VEVENT
UID:cg8z@192.168.245.71:3006
SEQUENCE:0
DTSTAMP:20260423T002428Z
DTSTART:20251124T090000Z
DTEND:20251124T104000Z
SUMMARY:Теория объемных компрессоров
LOCATION:Мех. к. Комп. кл. КВХТ №36
END:VEVENT
BEGIN:VEVENT
UID:bdrv@192.168.245.71:3006
SEQUENCE:0
DTSTAMP:20260423T002428Z
DTSTART:20251124T110000Z
DTEND:20251124T124000Z
SUMMARY:Компьютерные технологии САПР (на английском языке)
LOCATION:Мех. к. Комп. кл. КВХТ №37
END:VEVENT
BEGIN:VEVENT
UID:lspy@192.168.245.71:3006
SEQUENCE:0
DTSTAMP:20260423T002428Z
DTSTART:20251125T070000Z
DTEND:20251125T084000Z
SUMMARY:Теплообмен
LOCATION:Хим. к. Лаб.№10 Тепло- и массообмен
END:VEVENT
BEGIN:VEVENT
UID:3iaj@192.168.245.71:3006
SEQUENCE:0
DTSTAMP:20260423T002428Z
DTSTART:20251125T090000Z
DTEND:20251125T104000Z
SUMMARY:Расчет и моделирование осевого компрессора
LOCATION:Мех. к. Комп. кл. КВХТ №37
END:VEVENT
BEGIN:VEVENT
UID:qkea@192.168.245.71:3006
SEQUENCE:0
DTSTAMP:20260423T002428Z
DTSTART:20251125T110000Z
DTEND:20251125T124000Z
SUMMARY:Турбины
LOCATION:ГЗ 225
END:VEVENT
BEGIN:VEVENT
UID:i86r@192.168.245.71:3006
SEQUENCE:0
DTSTAMP:20260423T002428Z
DTSTART:20251126T070000Z
DTEND:20251126T143000Z
SUMMARY:Военная подготовка
LOCATION:Военная каф. кафедра
END:VEVENT
BEGIN:VEVENT
UID:4zx2@192.168.245.71:3006
SEQUENCE:0
DTSTAMP:20260423T002428Z
DTSTART:20251127T070000Z
DTEND:20251127T084000Z
SUMMARY:Теория турбомашин
LOCATION:Мех. к. Лаб. компрессоростроения №38
END:VEVENT
BEGIN:VEVENT
UID:vp8k@192.168.245.71:3006
SEQUENCE:0
DTSTAMP:20260423T002428Z
DTSTART:20251127T090000Z
DTEND:20251127T104000Z
SUMMARY:Двигатели внутреннего сгорания
LOCATION:ГЗ 215
END:VEVENT
BEGIN:VEVENT
UID:yoci@192.168.245.71:3006
SEQUENCE:0
DTSTAMP:20260423T002428Z
DTSTART:20251127T110000Z
DTEND:20251127T124000Z
SUMMARY:Иностранный язык. Профессионально-ориентированный курс
LOCATION:Мех. к. Учеб. кл. №2
END:VEVENT
BEGIN:VEVENT
UID:a2xm@192.168.245.71:3006
SEQUENCE:0
DTSTAMP:20260423T002428Z
DTSTART:20251128T090000Z
DTEND:20251128T104000Z
SUMMARY:Расчет и моделирование осевого компрессора
LOCATION:Мех. к. Уч. кл. КВХТ №14
END:VEVENT
BEGIN:VEVENT
UID:8s3y@192.168.245.71:3006
SEQUENCE:0
DTSTAMP:20260423T002428Z
DTSTART:20251128T110000Z
DTEND:20251128T124000Z
SUMMARY:Химмотология
LOCATION:ГЗ 282
END:VEVENT
BEGIN:VEVENT
UID:2s9i@192.168.245.71:3006
SEQUENCE:0
DTSTAMP:20260423T002428Z
DTSTART:20251129T050000Z
DTEND:20251129T083000Z
SUMMARY:Военная подготовка
LOCATION:Военная каф. кафедра
END:VEVENT
END:VCALENDAR