BEGIN:VCALENDAR
VERSION:2.0
PRODID:-//spbstu.ru//ical//RU
NAME:Расписание группы 3231303/31201
X-WR-CALNAME:Расписание группы 3231303/31201
TIMEZONE-ID:Europe/Moscow
X-WR-TIMEZONE:Europe/Moscow
BEGIN:VEVENT
UID:omlj@192.168.245.71:3006
SEQUENCE:0
DTSTAMP:20260423T012800Z
DTSTART:20251201T070000Z
DTEND:20251201T084000Z
SUMMARY:Теплообмен
LOCATION:ГЗ 153
END:VEVENT
BEGIN:VEVENT
UID:muf5@192.168.245.71:3006
SEQUENCE:0
DTSTAMP:20260423T012800Z
DTSTART:20251201T090000Z
DTEND:20251201T104000Z
SUMMARY:Теория турбомашин
LOCATION:НИК А2.17 (3-4)
END:VEVENT
BEGIN:VEVENT
UID:x0ld@192.168.245.71:3006
SEQUENCE:0
DTSTAMP:20260423T012800Z
DTSTART:20251201T110000Z
DTEND:20251201T124000Z
SUMMARY:Паротурбинные установки
LOCATION:Мех. к. Учеб. кл. №2
END:VEVENT
BEGIN:VEVENT
UID:lt2f@192.168.245.71:3006
SEQUENCE:0
DTSTAMP:20260423T012800Z
DTSTART:20251201T130000Z
DTEND:20251201T144000Z
SUMMARY:Паротурбинные установки
LOCATION:Мех. к. Учеб. кл. №2
END:VEVENT
BEGIN:VEVENT
UID:a7ub@192.168.245.71:3006
SEQUENCE:0
DTSTAMP:20260423T012800Z
DTSTART:20251202T090000Z
DTEND:20251202T104000Z
SUMMARY:Теплообмен
LOCATION:Хим. к. Лаб.№10 Тепло- и массообмен
END:VEVENT
BEGIN:VEVENT
UID:kkiv@192.168.245.71:3006
SEQUENCE:0
DTSTAMP:20260423T012800Z
DTSTART:20251202T110000Z
DTEND:20251202T124000Z
SUMMARY:Гидромашины
LOCATION:ГЗ 225
END:VEVENT
BEGIN:VEVENT
UID:x0l3@192.168.245.71:3006
SEQUENCE:0
DTSTAMP:20260423T012800Z
DTSTART:20251203T070000Z
DTEND:20251203T143000Z
SUMMARY:Военная подготовка
LOCATION:Военная каф. кафедра
END:VEVENT
BEGIN:VEVENT
UID:l68g@192.168.245.71:3006
SEQUENCE:0
DTSTAMP:20260423T012800Z
DTSTART:20251204T090000Z
DTEND:20251204T104000Z
SUMMARY:Компрессоры
LOCATION:ГЗ 215
END:VEVENT
BEGIN:VEVENT
UID:8pzu@192.168.245.71:3006
SEQUENCE:0
DTSTAMP:20260423T012800Z
DTSTART:20251204T110000Z
DTEND:20251204T124000Z
SUMMARY:ТЭС и АЭС
LOCATION:ТВН ВШАиТЭ уч.ауд.№302а
END:VEVENT
BEGIN:VEVENT
UID:bujl@192.168.245.71:3006
SEQUENCE:0
DTSTAMP:20260423T012800Z
DTSTART:20251204T130000Z
DTEND:20251204T144000Z
SUMMARY:ТЭС и АЭС
LOCATION:ТВН ВШАиТЭ уч.ауд.№302а
END:VEVENT
BEGIN:VEVENT
UID:0oxn@192.168.245.71:3006
SEQUENCE:0
DTSTAMP:20260423T012800Z
DTSTART:20251205T090000Z
DTEND:20251205T104000Z
SUMMARY:Компьютерные технологии САПР (на английском языке)
LOCATION:Мех. к. Комп. кл. КВХТ №37
END:VEVENT
BEGIN:VEVENT
UID:er56@192.168.245.71:3006
SEQUENCE:0
DTSTAMP:20260423T012800Z
DTSTART:20251205T110000Z
DTEND:20251205T124000Z
SUMMARY:Химмотология
LOCATION:ГЗ 282
END:VEVENT
BEGIN:VEVENT
UID:nmp0@192.168.245.71:3006
SEQUENCE:0
DTSTAMP:20260423T012800Z
DTSTART:20251206T050000Z
DTEND:20251206T083000Z
SUMMARY:Военная подготовка
LOCATION:Военная каф. кафедра
END:VEVENT
END:VCALENDAR