BEGIN:VCALENDAR
VERSION:2.0
PRODID:-//spbstu.ru//ical//RU
NAME:Расписание группы 3231303/31201
X-WR-CALNAME:Расписание группы 3231303/31201
TIMEZONE-ID:Europe/Moscow
X-WR-TIMEZONE:Europe/Moscow
BEGIN:VEVENT
UID:6bdu@192.168.245.71:3006
SEQUENCE:0
DTSTAMP:20260422T154917Z
DTSTART:20251215T070000Z
DTEND:20251215T084000Z
SUMMARY:Теплообмен
LOCATION:ГЗ 153
END:VEVENT
BEGIN:VEVENT
UID:6af4@192.168.245.71:3006
SEQUENCE:0
DTSTAMP:20260422T154917Z
DTSTART:20251215T090000Z
DTEND:20251215T104000Z
SUMMARY:Теория турбомашин
LOCATION:НИК А2.17 (3-4)
END:VEVENT
BEGIN:VEVENT
UID:awyz@192.168.245.71:3006
SEQUENCE:0
DTSTAMP:20260422T154917Z
DTSTART:20251216T110000Z
DTEND:20251216T124000Z
SUMMARY:Гидромашины
LOCATION:ГЗ 225
END:VEVENT
BEGIN:VEVENT
UID:k2i8@192.168.245.71:3006
SEQUENCE:0
DTSTAMP:20260422T154917Z
DTSTART:20251217T100000Z
DTEND:20251217T130000Z
SUMMARY:Компрессоры
LOCATION:Мех. к. Лаб. компрессоростроения №38
END:VEVENT
BEGIN:VEVENT
UID:wwjm@192.168.245.71:3006
SEQUENCE:0
DTSTAMP:20260422T154917Z
DTSTART:20251218T100000Z
DTEND:20251218T130000Z
SUMMARY:Гидромашины
LOCATION:ГЗ 282
END:VEVENT
BEGIN:VEVENT
UID:fba5@192.168.245.71:3006
SEQUENCE:0
DTSTAMP:20260422T154917Z
DTSTART:20251219T100000Z
DTEND:20251219T130000Z
SUMMARY:Двигатели внутреннего сгорания
LOCATION:ГЗ 284
END:VEVENT
BEGIN:VEVENT
UID:0zht@192.168.245.71:3006
SEQUENCE:0
DTSTAMP:20260422T154917Z
DTSTART:20251220T100000Z
DTEND:20251220T130000Z
SUMMARY:Турбины
LOCATION:Мех. к. Лаб.турбиностроения им. И.И. Кириллова
END:VEVENT
END:VCALENDAR