BEGIN:VCALENDAR
VERSION:2.0
PRODID:-//spbstu.ru//ical//RU
NAME:Расписание группы 3231303/31201
X-WR-CALNAME:Расписание группы 3231303/31201
TIMEZONE-ID:Europe/Moscow
X-WR-TIMEZONE:Europe/Moscow
BEGIN:VEVENT
UID:lg9v@192.168.245.71:3006
SEQUENCE:0
DTSTAMP:20260421T020018Z
DTSTART:20260324T070000Z
DTEND:20260324T084000Z
SUMMARY:Теория автоматического управления
LOCATION:ГЗ 282
END:VEVENT
BEGIN:VEVENT
UID:wdam@192.168.245.71:3006
SEQUENCE:0
DTSTAMP:20260421T020018Z
DTSTART:20260324T090000Z
DTEND:20260324T104000Z
SUMMARY:Теория турбомашин
LOCATION:ГЗ 244
END:VEVENT
BEGIN:VEVENT
UID:521z@192.168.245.71:3006
SEQUENCE:0
DTSTAMP:20260421T020018Z
DTSTART:20260324T110000Z
DTEND:20260324T124000Z
SUMMARY:Динамика и прочность энергетических машин
LOCATION:НИК А2.22
END:VEVENT
BEGIN:VEVENT
UID:3pma@192.168.245.71:3006
SEQUENCE:0
DTSTAMP:20260421T020018Z
DTSTART:20260324T130000Z
DTEND:20260324T144000Z
SUMMARY:Инженерный практикум
LOCATION:НИК А2.22
END:VEVENT
BEGIN:VEVENT
UID:rtz4@192.168.245.71:3006
SEQUENCE:0
DTSTAMP:20260421T020018Z
DTSTART:20260325T070000Z
DTEND:20260325T143000Z
SUMMARY:Военная подготовка
LOCATION:Военная каф. кафедра
END:VEVENT
BEGIN:VEVENT
UID:735i@192.168.245.71:3006
SEQUENCE:0
DTSTAMP:20260421T020018Z
DTSTART:20260325T150000Z
DTEND:20260325T164000Z
SUMMARY:Теплообмен
LOCATION:Хим. к. 9
END:VEVENT
BEGIN:VEVENT
UID:lmsk@192.168.245.71:3006
SEQUENCE:0
DTSTAMP:20260421T020018Z
DTSTART:20260326T050000Z
DTEND:20260326T064000Z
SUMMARY:ЕСКД
LOCATION:ГЗ 122
END:VEVENT
BEGIN:VEVENT
UID:f0gw@192.168.245.71:3006
SEQUENCE:0
DTSTAMP:20260421T020018Z
DTSTART:20260326T070000Z
DTEND:20260326T084000Z
SUMMARY:Комплексные расчёты\, профилирование и построение проточных частей
  турбомашин
LOCATION:Мех. к. Лаб.турбиностроения им. И.И. Кириллова
END:VEVENT
BEGIN:VEVENT
UID:f8rq@192.168.245.71:3006
SEQUENCE:0
DTSTAMP:20260421T020018Z
DTSTART:20260326T090000Z
DTEND:20260326T104000Z
SUMMARY:ЕСКД
LOCATION:Мех. к. ВЦ
END:VEVENT
BEGIN:VEVENT
UID:h7q0@192.168.245.71:3006
SEQUENCE:0
DTSTAMP:20260421T020018Z
DTSTART:20260326T110000Z
DTEND:20260326T124000Z
SUMMARY:Динамика и прочность энергетических машин
LOCATION:ГЗ 244
END:VEVENT
BEGIN:VEVENT
UID:wech@192.168.245.71:3006
SEQUENCE:0
DTSTAMP:20260421T020018Z
DTSTART:20260327T060000Z
DTEND:20260327T074000Z
SUMMARY:Камеры сгорания\, парогенераторы  и теплообменники
LOCATION:Завод «Силовые Машин Учебный класс
END:VEVENT
BEGIN:VEVENT
UID:vvdj@192.168.245.71:3006
SEQUENCE:0
DTSTAMP:20260421T020018Z
DTSTART:20260327T080000Z
DTEND:20260327T094000Z
SUMMARY:Энергетические установки
LOCATION:Завод «Силовые Машин Учебный класс
END:VEVENT
END:VCALENDAR