BEGIN:VCALENDAR
VERSION:2.0
PRODID:-//spbstu.ru//ical//RU
NAME:Расписание группы 3231401/30101
X-WR-CALNAME:Расписание группы 3231401/30101
TIMEZONE-ID:Europe/Moscow
X-WR-TIMEZONE:Europe/Moscow
BEGIN:VEVENT
UID:tkz8@192.168.245.71:3006
SEQUENCE:0
DTSTAMP:20260425T192603Z
DTSTART:20251117T070000Z
DTEND:20251117T084000Z
SUMMARY:Иностранный язык. Профессионально-ориентированный курс
LOCATION:ГЗ 219
END:VEVENT
BEGIN:VEVENT
UID:pmte@192.168.245.71:3006
SEQUENCE:0
DTSTAMP:20260425T192603Z
DTSTART:20251117T090000Z
DTEND:20251117T104000Z
SUMMARY:Детали машин и основы конструирования
LOCATION:ГЗ 218
END:VEVENT
BEGIN:VEVENT
UID:9jxb@192.168.245.71:3006
SEQUENCE:0
DTSTAMP:20260425T192603Z
DTSTART:20251117T110000Z
DTEND:20251117T124000Z
SUMMARY:Паротурбинные установки
LOCATION:ГЗ 284
END:VEVENT
BEGIN:VEVENT
UID:82ie@192.168.245.71:3006
SEQUENCE:0
DTSTAMP:20260425T192603Z
DTSTART:20251117T130000Z
DTEND:20251117T144000Z
SUMMARY:Водоподготовка
LOCATION:ГЗ 283
END:VEVENT
BEGIN:VEVENT
UID:zvbc@192.168.245.71:3006
SEQUENCE:0
DTSTAMP:20260425T192603Z
DTSTART:20251118T110000Z
DTEND:20251118T124000Z
SUMMARY:Уравнения математической физики для ЯЭУ
LOCATION:ГЗ 229
END:VEVENT
BEGIN:VEVENT
UID:zbol@192.168.245.71:3006
SEQUENCE:0
DTSTAMP:20260425T192603Z
DTSTART:20251118T130000Z
DTEND:20251118T144000Z
SUMMARY:Электроника
LOCATION:ГЗ 283
END:VEVENT
BEGIN:VEVENT
UID:boi8@192.168.245.71:3006
SEQUENCE:0
DTSTAMP:20260425T192603Z
DTSTART:20251119T070000Z
DTEND:20251119T143000Z
SUMMARY:Военная подготовка
LOCATION:Военная каф. кафедра
END:VEVENT
BEGIN:VEVENT
UID:6mgp@192.168.245.71:3006
SEQUENCE:0
DTSTAMP:20260425T192603Z
DTSTART:20251120T090000Z
DTEND:20251120T104000Z
SUMMARY:Уравнения математической физики для ЯЭУ
LOCATION:ГЗ 284
END:VEVENT
BEGIN:VEVENT
UID:5cg0@192.168.245.71:3006
SEQUENCE:0
DTSTAMP:20260425T192603Z
DTSTART:20251120T110000Z
DTEND:20251120T124000Z
SUMMARY:Теория переноса нейтронов
LOCATION:ГЗ 153
END:VEVENT
BEGIN:VEVENT
UID:aaxt@192.168.245.71:3006
SEQUENCE:0
DTSTAMP:20260425T192603Z
DTSTART:20251120T130000Z
DTEND:20251120T144000Z
SUMMARY:Электроника
LOCATION:17 уч.к. 308
END:VEVENT
BEGIN:VEVENT
UID:xurt@192.168.245.71:3006
SEQUENCE:0
DTSTAMP:20260425T192603Z
DTSTART:20251120T130000Z
DTEND:20251120T144000Z
SUMMARY:Электроника
LOCATION:17 уч.к. 310
END:VEVENT
BEGIN:VEVENT
UID:zrzt@192.168.245.71:3006
SEQUENCE:0
DTSTAMP:20260425T192603Z
DTSTART:20251121T070000Z
DTEND:20251121T084000Z
SUMMARY:Теплогидравлические процессы в ЯЭУ
LOCATION:ТВН ВШАиТЭ комп.кл.
END:VEVENT
BEGIN:VEVENT
UID:c6qw@192.168.245.71:3006
SEQUENCE:0
DTSTAMP:20260425T192603Z
DTSTART:20251121T090000Z
DTEND:20251121T104000Z
SUMMARY:Водоподготовка
LOCATION:Мех. к. лаб. 21 Водоподготовка
END:VEVENT
BEGIN:VEVENT
UID:9gz5@192.168.245.71:3006
SEQUENCE:0
DTSTAMP:20260425T192603Z
DTSTART:20251121T110000Z
DTEND:20251121T124000Z
SUMMARY:Теплогидравлические процессы в ЯЭУ
LOCATION:ТВН ВШАиТЭ уч.ауд.№302а
END:VEVENT
BEGIN:VEVENT
UID:kpjo@192.168.245.71:3006
SEQUENCE:0
DTSTAMP:20260425T192603Z
DTSTART:20251122T050000Z
DTEND:20251122T083000Z
SUMMARY:Военная подготовка
LOCATION:Военная каф. кафедра
END:VEVENT
END:VCALENDAR