BEGIN:VCALENDAR
VERSION:2.0
PRODID:-//spbstu.ru//ical//RU
NAME:Расписание группы 3231401/30101
X-WR-CALNAME:Расписание группы 3231401/30101
TIMEZONE-ID:Europe/Moscow
X-WR-TIMEZONE:Europe/Moscow
BEGIN:VEVENT
UID:a51s@192.168.245.71:3006
SEQUENCE:0
DTSTAMP:20260425T020707Z
DTSTART:20251222T070000Z
DTEND:20251222T100000Z
SUMMARY:Детали машин и основы конструирования
LOCATION:ГЗ 108
END:VEVENT
BEGIN:VEVENT
UID:vt3y@192.168.245.71:3006
SEQUENCE:0
DTSTAMP:20260425T020707Z
DTSTART:20251222T100000Z
DTEND:20251222T130000Z
SUMMARY:Детали машин и основы конструирования
LOCATION:ГЗ 108
END:VEVENT
BEGIN:VEVENT
UID:dgc7@192.168.245.71:3006
SEQUENCE:0
DTSTAMP:20260425T020707Z
DTSTART:20251224T070000Z
DTEND:20251224T110000Z
SUMMARY:Водоподготовка
LOCATION:Мех. к. 14
END:VEVENT
BEGIN:VEVENT
UID:x61t@192.168.245.71:3006
SEQUENCE:0
DTSTAMP:20260425T020707Z
DTSTART:20251226T070000Z
DTEND:20251226T100000Z
SUMMARY:Уравнения математической физики для ЯЭУ
LOCATION:ГЗ 106
END:VEVENT
END:VCALENDAR