BEGIN:VCALENDAR
VERSION:2.0
PRODID:-//spbstu.ru//ical//RU
NAME:Расписание группы 3231401/30101
X-WR-CALNAME:Расписание группы 3231401/30101
TIMEZONE-ID:Europe/Moscow
X-WR-TIMEZONE:Europe/Moscow
BEGIN:VEVENT
UID:tas1@192.168.245.71:3006
SEQUENCE:0
DTSTAMP:20260424T144431Z
DTSTART:20260119T090000Z
DTEND:20260119T104000Z
SUMMARY:Теория переноса нейтронов
LOCATION:ГЗ 305
END:VEVENT
BEGIN:VEVENT
UID:w3mj@192.168.245.71:3006
SEQUENCE:0
DTSTAMP:20260424T144431Z
DTSTART:20260119T110000Z
DTEND:20260119T170000Z
SUMMARY:Теория переноса нейтронов
LOCATION:ГЗ 305
END:VEVENT
END:VCALENDAR