BEGIN:VCALENDAR
VERSION:2.0
PRODID:-//spbstu.ru//ical//RU
NAME:Расписание группы 3231401/30101
X-WR-CALNAME:Расписание группы 3231401/30101
TIMEZONE-ID:Europe/Moscow
X-WR-TIMEZONE:Europe/Moscow
BEGIN:VEVENT
UID:9kg9@192.168.245.71:3006
SEQUENCE:0
DTSTAMP:20260421T035520Z
DTSTART:20260310T090000Z
DTEND:20260310T104000Z
SUMMARY:Теплофикация и теплоснабжение
LOCATION:ТВН ГМ уч.ауд.№316
END:VEVENT
BEGIN:VEVENT
UID:n1py@192.168.245.71:3006
SEQUENCE:0
DTSTAMP:20260421T035520Z
DTSTART:20260310T110000Z
DTEND:20260310T124000Z
SUMMARY:Физика ядерных реакторов
LOCATION:ГЗ 211
END:VEVENT
BEGIN:VEVENT
UID:opog@192.168.245.71:3006
SEQUENCE:0
DTSTAMP:20260421T035520Z
DTSTART:20260310T130000Z
DTEND:20260310T144000Z
SUMMARY:Прочность оборудования РУ
LOCATION:ТВН ВШАиТЭ уч.ауд.№102
END:VEVENT
BEGIN:VEVENT
UID:6ni7@192.168.245.71:3006
SEQUENCE:0
DTSTAMP:20260421T035520Z
DTSTART:20260311T070000Z
DTEND:20260311T143000Z
SUMMARY:Военная подготовка
LOCATION:Военная каф. кафедра
END:VEVENT
BEGIN:VEVENT
UID:0z47@192.168.245.71:3006
SEQUENCE:0
DTSTAMP:20260421T035520Z
DTSTART:20260312T070000Z
DTEND:20260312T084000Z
SUMMARY:Прочность оборудования РУ
LOCATION:ТВН ВШАиТЭ уч.ауд.№303
END:VEVENT
BEGIN:VEVENT
UID:yp6t@192.168.245.71:3006
SEQUENCE:0
DTSTAMP:20260421T035520Z
DTSTART:20260312T090000Z
DTEND:20260312T104000Z
SUMMARY:Методы расчета и конструирования парогенераторов
LOCATION:ГЗ 282
END:VEVENT
BEGIN:VEVENT
UID:r3g8@192.168.245.71:3006
SEQUENCE:0
DTSTAMP:20260421T035520Z
DTSTART:20260312T110000Z
DTEND:20260312T124000Z
SUMMARY:Специальные вопросы математической физики
LOCATION:ГЗ 207
END:VEVENT
BEGIN:VEVENT
UID:j86u@192.168.245.71:3006
SEQUENCE:0
DTSTAMP:20260421T035520Z
DTSTART:20260312T130000Z
DTEND:20260312T144000Z
SUMMARY:Физика ядерных реакторов
LOCATION:2 к. 106
END:VEVENT
BEGIN:VEVENT
UID:lomt@192.168.245.71:3006
SEQUENCE:0
DTSTAMP:20260421T035520Z
DTSTART:20260313T090000Z
DTEND:20260313T104000Z
SUMMARY:Технология сварки
LOCATION:ГЗ 284
END:VEVENT
BEGIN:VEVENT
UID:pxr8@192.168.245.71:3006
SEQUENCE:0
DTSTAMP:20260421T035520Z
DTSTART:20260313T110000Z
DTEND:20260313T124000Z
SUMMARY:Физика ядерных реакторов
LOCATION:ГЗ 284
END:VEVENT
BEGIN:VEVENT
UID:o7ps@192.168.245.71:3006
SEQUENCE:0
DTSTAMP:20260421T035520Z
DTSTART:20260314T090000Z
DTEND:20260314T104000Z
SUMMARY:Методы расчета и конструирования парогенераторов
LOCATION:ГЗ 223
END:VEVENT
BEGIN:VEVENT
UID:r86k@192.168.245.71:3006
SEQUENCE:0
DTSTAMP:20260421T035520Z
DTSTART:20260314T110000Z
DTEND:20260314T124000Z
SUMMARY:Турбины ТЭС и АЭС
LOCATION:ГЗ 224
END:VEVENT
END:VCALENDAR