BEGIN:VCALENDAR
VERSION:2.0
PRODID:-//spbstu.ru//ical//RU
NAME:Расписание группы 3251402/30102
X-WR-CALNAME:Расписание группы 3251402/30102
TIMEZONE-ID:Europe/Moscow
X-WR-TIMEZONE:Europe/Moscow
BEGIN:VEVENT
UID:yxtc@192.168.245.71:3006
SEQUENCE:0
DTSTAMP:20260423T103854Z
DTSTART:20251027T090000Z
DTEND:20251027T104000Z
SUMMARY:Водоподготовка
LOCATION:Мех. к. лаб. 21 Водоподготовка
END:VEVENT
BEGIN:VEVENT
UID:o8y2@192.168.245.71:3006
SEQUENCE:0
DTSTAMP:20260423T103854Z
DTSTART:20251027T110000Z
DTEND:20251027T124000Z
SUMMARY:Детали машин и основы конструирования
LOCATION:ГЗ 101
END:VEVENT
BEGIN:VEVENT
UID:e3xz@192.168.245.71:3006
SEQUENCE:0
DTSTAMP:20260423T103854Z
DTSTART:20251028T110000Z
DTEND:20251028T124000Z
SUMMARY:Иностранный язык. Профессионально-ориентированный курс
LOCATION:ГЗ 220
END:VEVENT
BEGIN:VEVENT
UID:s0vv@192.168.245.71:3006
SEQUENCE:0
DTSTAMP:20260423T103854Z
DTSTART:20251028T130000Z
DTEND:20251028T144000Z
SUMMARY:Электроника
LOCATION:ГЗ 283
END:VEVENT
BEGIN:VEVENT
UID:v60l@192.168.245.71:3006
SEQUENCE:0
DTSTAMP:20260423T103854Z
DTSTART:20251029T070000Z
DTEND:20251029T143000Z
SUMMARY:Военная подготовка
LOCATION:Военная каф. кафедра
END:VEVENT
BEGIN:VEVENT
UID:4hqg@192.168.245.71:3006
SEQUENCE:0
DTSTAMP:20260423T103854Z
DTSTART:20251030T070000Z
DTEND:20251030T084000Z
SUMMARY:Уравнения математической физики для ЯЭУ
LOCATION:ГЗ 229
END:VEVENT
BEGIN:VEVENT
UID:gnvg@192.168.245.71:3006
SEQUENCE:0
DTSTAMP:20260423T103854Z
DTSTART:20251030T090000Z
DTEND:20251030T104000Z
SUMMARY:Уравнения математической физики для ЯЭУ
LOCATION:ГЗ 284
END:VEVENT
BEGIN:VEVENT
UID:vlaf@192.168.245.71:3006
SEQUENCE:0
DTSTAMP:20260423T103854Z
DTSTART:20251030T110000Z
DTEND:20251030T124000Z
SUMMARY:Теория переноса нейтронов
LOCATION:ГЗ 153
END:VEVENT
BEGIN:VEVENT
UID:aeat@192.168.245.71:3006
SEQUENCE:0
DTSTAMP:20260423T103854Z
DTSTART:20251030T130000Z
DTEND:20251030T144000Z
SUMMARY:Электроника
LOCATION:17 уч.к. 308
END:VEVENT
BEGIN:VEVENT
UID:jkoe@192.168.245.71:3006
SEQUENCE:0
DTSTAMP:20260423T103854Z
DTSTART:20251030T130000Z
DTEND:20251030T144000Z
SUMMARY:Электроника
LOCATION:17 уч.к. 310
END:VEVENT
BEGIN:VEVENT
UID:ottu@192.168.245.71:3006
SEQUENCE:0
DTSTAMP:20260423T103854Z
DTSTART:20251031T070000Z
DTEND:20251031T084000Z
SUMMARY:Материалы ядерных реакторов и ПГ
LOCATION:ГЗ 253
END:VEVENT
BEGIN:VEVENT
UID:plcg@192.168.245.71:3006
SEQUENCE:0
DTSTAMP:20260423T103854Z
DTSTART:20251031T090000Z
DTEND:20251031T104000Z
SUMMARY:Детали машин и основы конструирования
LOCATION:ГЗ 219
END:VEVENT
BEGIN:VEVENT
UID:lfw3@192.168.245.71:3006
SEQUENCE:0
DTSTAMP:20260423T103854Z
DTSTART:20251031T110000Z
DTEND:20251031T124000Z
SUMMARY:Материалы ядерных реакторов и ПГ
LOCATION:ГЗ 218
END:VEVENT
BEGIN:VEVENT
UID:9134@192.168.245.71:3006
SEQUENCE:0
DTSTAMP:20260423T103854Z
DTSTART:20251101T050000Z
DTEND:20251101T083000Z
SUMMARY:Военная подготовка
LOCATION:Военная каф. кафедра
END:VEVENT
BEGIN:VEVENT
UID:h0fr@192.168.245.71:3006
SEQUENCE:0
DTSTAMP:20260423T103854Z
DTSTART:20251101T090000Z
DTEND:20251101T104000Z
SUMMARY:Турбины ТЭС и АЭС
LOCATION:ГЗ 122
END:VEVENT
BEGIN:VEVENT
UID:yrpp@192.168.245.71:3006
SEQUENCE:0
DTSTAMP:20260423T103854Z
DTSTART:20251101T110000Z
DTEND:20251101T124000Z
SUMMARY:Турбины ТЭС и АЭС
LOCATION:ГЗ 122
END:VEVENT
END:VCALENDAR