BEGIN:VCALENDAR
VERSION:2.0
PRODID:-//spbstu.ru//ical//RU
NAME:Расписание группы 3251402/30102
X-WR-CALNAME:Расписание группы 3251402/30102
TIMEZONE-ID:Europe/Moscow
X-WR-TIMEZONE:Europe/Moscow
BEGIN:VEVENT
UID:gi9z@192.168.245.71:3006
SEQUENCE:0
DTSTAMP:20260423T031118Z
DTSTART:20251117T090000Z
DTEND:20251117T104000Z
SUMMARY:Водоподготовка
LOCATION:Мех. к. лаб. 21 Водоподготовка
END:VEVENT
BEGIN:VEVENT
UID:18lh@192.168.245.71:3006
SEQUENCE:0
DTSTAMP:20260423T031118Z
DTSTART:20251117T110000Z
DTEND:20251117T124000Z
SUMMARY:Паротурбинные установки
LOCATION:ГЗ 284
END:VEVENT
BEGIN:VEVENT
UID:viuh@192.168.245.71:3006
SEQUENCE:0
DTSTAMP:20260423T031118Z
DTSTART:20251117T130000Z
DTEND:20251117T144000Z
SUMMARY:Водоподготовка
LOCATION:ГЗ 283
END:VEVENT
BEGIN:VEVENT
UID:lfcy@192.168.245.71:3006
SEQUENCE:0
DTSTAMP:20260423T031118Z
DTSTART:20251118T090000Z
DTEND:20251118T104000Z
SUMMARY:Паротурбинные установки
LOCATION:ТВН ВШАиТЭ уч.ауд.№102
END:VEVENT
BEGIN:VEVENT
UID:1pcs@192.168.245.71:3006
SEQUENCE:0
DTSTAMP:20260423T031118Z
DTSTART:20251118T110000Z
DTEND:20251118T124000Z
SUMMARY:Иностранный язык. Профессионально-ориентированный курс
LOCATION:ГЗ 220
END:VEVENT
BEGIN:VEVENT
UID:2si0@192.168.245.71:3006
SEQUENCE:0
DTSTAMP:20260423T031118Z
DTSTART:20251118T130000Z
DTEND:20251118T144000Z
SUMMARY:Электроника
LOCATION:ГЗ 283
END:VEVENT
BEGIN:VEVENT
UID:zuuu@192.168.245.71:3006
SEQUENCE:0
DTSTAMP:20260423T031118Z
DTSTART:20251119T070000Z
DTEND:20251119T143000Z
SUMMARY:Военная подготовка
LOCATION:Военная каф. кафедра
END:VEVENT
BEGIN:VEVENT
UID:8y5y@192.168.245.71:3006
SEQUENCE:0
DTSTAMP:20260423T031118Z
DTSTART:20251120T070000Z
DTEND:20251120T084000Z
SUMMARY:Уравнения математической физики для ЯЭУ
LOCATION:ГЗ 229
END:VEVENT
BEGIN:VEVENT
UID:lhum@192.168.245.71:3006
SEQUENCE:0
DTSTAMP:20260423T031118Z
DTSTART:20251120T090000Z
DTEND:20251120T104000Z
SUMMARY:Уравнения математической физики для ЯЭУ
LOCATION:ГЗ 284
END:VEVENT
BEGIN:VEVENT
UID:q483@192.168.245.71:3006
SEQUENCE:0
DTSTAMP:20260423T031118Z
DTSTART:20251120T110000Z
DTEND:20251120T124000Z
SUMMARY:Теория переноса нейтронов
LOCATION:ГЗ 153
END:VEVENT
BEGIN:VEVENT
UID:uh4m@192.168.245.71:3006
SEQUENCE:0
DTSTAMP:20260423T031118Z
DTSTART:20251120T130000Z
DTEND:20251120T144000Z
SUMMARY:Теория переноса нейтронов
LOCATION:2 к. 111
END:VEVENT
BEGIN:VEVENT
UID:2jr6@192.168.245.71:3006
SEQUENCE:0
DTSTAMP:20260423T031118Z
DTSTART:20251121T070000Z
DTEND:20251121T084000Z
SUMMARY:Материалы ядерных реакторов и ПГ
LOCATION:ГЗ 253
END:VEVENT
BEGIN:VEVENT
UID:p729@192.168.245.71:3006
SEQUENCE:0
DTSTAMP:20260423T031118Z
DTSTART:20251121T090000Z
DTEND:20251121T104000Z
SUMMARY:Детали машин и основы конструирования
LOCATION:ГЗ 219
END:VEVENT
BEGIN:VEVENT
UID:41ep@192.168.245.71:3006
SEQUENCE:0
DTSTAMP:20260423T031118Z
DTSTART:20251121T110000Z
DTEND:20251121T124000Z
SUMMARY:Материалы ядерных реакторов и ПГ
LOCATION:ГЗ 218
END:VEVENT
BEGIN:VEVENT
UID:dxgr@192.168.245.71:3006
SEQUENCE:0
DTSTAMP:20260423T031118Z
DTSTART:20251122T050000Z
DTEND:20251122T083000Z
SUMMARY:Военная подготовка
LOCATION:Военная каф. кафедра
END:VEVENT
END:VCALENDAR