BEGIN:VCALENDAR
VERSION:2.0
PRODID:-//spbstu.ru//ical//RU
NAME:Расписание группы 3231302/20301
X-WR-CALNAME:Расписание группы 3231302/20301
TIMEZONE-ID:Europe/Moscow
X-WR-TIMEZONE:Europe/Moscow
BEGIN:VEVENT
UID:l07o@192.168.245.71:3006
SEQUENCE:0
DTSTAMP:20260425T004322Z
DTSTART:20251222T110000Z
DTEND:20251222T150000Z
SUMMARY:Электромагнитные переходные процессы
LOCATION:5 к. 305
END:VEVENT
BEGIN:VEVENT
UID:dq5w@192.168.245.71:3006
SEQUENCE:0
DTSTAMP:20260425T004322Z
DTSTART:20251225T070000Z
DTEND:20251225T084000Z
SUMMARY:Режимы работы электрооборудования электростанций
LOCATION:5 к. 305
END:VEVENT
BEGIN:VEVENT
UID:eves@192.168.245.71:3006
SEQUENCE:0
DTSTAMP:20260425T004322Z
DTSTART:20251226T070000Z
DTEND:20251226T130000Z
SUMMARY:Режимы работы электрооборудования электростанций
LOCATION:5 к. 305
END:VEVENT
END:VCALENDAR