BEGIN:VCALENDAR
VERSION:2.0
PRODID:-//spbstu.ru//ical//RU
NAME:Расписание группы 3231302/20301
X-WR-CALNAME:Расписание группы 3231302/20301
TIMEZONE-ID:Europe/Moscow
X-WR-TIMEZONE:Europe/Moscow
BEGIN:VEVENT
UID:b68v@192.168.245.71:3006
SEQUENCE:0
DTSTAMP:20260422T235932Z
DTSTART:20260224T070000Z
DTEND:20260224T150000Z
SUMMARY:Военная подготовка
LOCATION:Военная каф. кафедра
END:VEVENT
BEGIN:VEVENT
UID:ay0b@192.168.245.71:3006
SEQUENCE:0
DTSTAMP:20260422T235932Z
DTSTART:20260225T070000Z
DTEND:20260225T084000Z
SUMMARY:Релейная защита электроэнергетических систем
LOCATION:5 к. 304
END:VEVENT
BEGIN:VEVENT
UID:dfdh@192.168.245.71:3006
SEQUENCE:0
DTSTAMP:20260422T235932Z
DTSTART:20260225T090000Z
DTEND:20260225T104000Z
SUMMARY:Релейная защита электроэнергетических систем
LOCATION:ГЗ 225
END:VEVENT
BEGIN:VEVENT
UID:djjx@192.168.245.71:3006
SEQUENCE:0
DTSTAMP:20260422T235932Z
DTSTART:20260225T110000Z
DTEND:20260225T124000Z
SUMMARY:Электромеханические переходные процессы
LOCATION:Мех. к. 9
END:VEVENT
BEGIN:VEVENT
UID:86j2@192.168.245.71:3006
SEQUENCE:0
DTSTAMP:20260422T235932Z
DTSTART:20260225T130000Z
DTEND:20260225T144000Z
SUMMARY:Электромеханические переходные процессы
LOCATION:Мех. к. 7
END:VEVENT
BEGIN:VEVENT
UID:mmkg@192.168.245.71:3006
SEQUENCE:0
DTSTAMP:20260422T235932Z
DTSTART:20260226T070000Z
DTEND:20260226T084000Z
SUMMARY:Электрические станции и подстанции
LOCATION:5 к. 305
END:VEVENT
BEGIN:VEVENT
UID:3haf@192.168.245.71:3006
SEQUENCE:0
DTSTAMP:20260422T235932Z
DTSTART:20260226T090000Z
DTEND:20260226T104000Z
SUMMARY:Релейная защита электроэнергетических систем
LOCATION:5 к. 301
END:VEVENT
BEGIN:VEVENT
UID:ivki@192.168.245.71:3006
SEQUENCE:0
DTSTAMP:20260422T235932Z
DTSTART:20260226T110000Z
DTEND:20260226T124000Z
SUMMARY:Электрические станции и подстанции
LOCATION:5 к. 305
END:VEVENT
END:VCALENDAR