BEGIN:VCALENDAR
VERSION:2.0
PRODID:-//spbstu.ru//ical//RU
NAME:Расписание группы 3231302/20301
X-WR-CALNAME:Расписание группы 3231302/20301
TIMEZONE-ID:Europe/Moscow
X-WR-TIMEZONE:Europe/Moscow
BEGIN:VEVENT
UID:mwch@192.168.245.71:3006
SEQUENCE:0
DTSTAMP:20260422T094541Z
DTSTART:20260330T070000Z
DTEND:20260330T084000Z
SUMMARY:Автоматика энергетических систем
LOCATION:ГЗ 253
END:VEVENT
BEGIN:VEVENT
UID:sgih@192.168.245.71:3006
SEQUENCE:0
DTSTAMP:20260422T094541Z
DTSTART:20260330T090000Z
DTEND:20260330T104000Z
SUMMARY:Автоматика энергетических систем
LOCATION:ГЗ 253
END:VEVENT
BEGIN:VEVENT
UID:7d8z@192.168.245.71:3006
SEQUENCE:0
DTSTAMP:20260422T094541Z
DTSTART:20260331T070000Z
DTEND:20260331T150000Z
SUMMARY:Военная подготовка
LOCATION:Военная каф. кафедра
END:VEVENT
BEGIN:VEVENT
UID:31uh@192.168.245.71:3006
SEQUENCE:0
DTSTAMP:20260422T094541Z
DTSTART:20260401T070000Z
DTEND:20260401T084000Z
SUMMARY:Релейная защита электроэнергетических систем
LOCATION:5 к. 304
END:VEVENT
BEGIN:VEVENT
UID:n7lq@192.168.245.71:3006
SEQUENCE:0
DTSTAMP:20260422T094541Z
DTSTART:20260401T090000Z
DTEND:20260401T104000Z
SUMMARY:Релейная защита электроэнергетических систем
LOCATION:ГЗ 225
END:VEVENT
BEGIN:VEVENT
UID:g2ww@192.168.245.71:3006
SEQUENCE:0
DTSTAMP:20260422T094541Z
DTSTART:20260401T110000Z
DTEND:20260401T124000Z
SUMMARY:Электромеханические переходные процессы
LOCATION:Мех. к. 9
END:VEVENT
BEGIN:VEVENT
UID:gw4e@192.168.245.71:3006
SEQUENCE:0
DTSTAMP:20260422T094541Z
DTSTART:20260402T070000Z
DTEND:20260402T084000Z
SUMMARY:Электрические станции и подстанции
LOCATION:5 к. 305
END:VEVENT
BEGIN:VEVENT
UID:8ixo@192.168.245.71:3006
SEQUENCE:0
DTSTAMP:20260422T094541Z
DTSTART:20260402T090000Z
DTEND:20260402T104000Z
SUMMARY:Релейная защита электроэнергетических систем
LOCATION:5 к. 301
END:VEVENT
END:VCALENDAR