BEGIN:VCALENDAR
VERSION:2.0
PRODID:-//spbstu.ru//ical//RU
NAME:Расписание группы 3231302/20301
X-WR-CALNAME:Расписание группы 3231302/20301
TIMEZONE-ID:Europe/Moscow
X-WR-TIMEZONE:Europe/Moscow
BEGIN:VEVENT
UID:2ft7@192.168.245.71:3006
SEQUENCE:0
DTSTAMP:20260422T063736Z
DTSTART:20260427T070000Z
DTEND:20260427T084000Z
SUMMARY:Автоматика энергетических систем
LOCATION:5 к. 208
END:VEVENT
BEGIN:VEVENT
UID:5olu@192.168.245.71:3006
SEQUENCE:0
DTSTAMP:20260422T063736Z
DTSTART:20260427T090000Z
DTEND:20260427T104000Z
SUMMARY:Автоматика энергетических систем
LOCATION:5 к. 208
END:VEVENT
BEGIN:VEVENT
UID:qapf@192.168.245.71:3006
SEQUENCE:0
DTSTAMP:20260422T063736Z
DTSTART:20260428T070000Z
DTEND:20260428T150000Z
SUMMARY:Военная подготовка
LOCATION:Военная каф. кафедра
END:VEVENT
BEGIN:VEVENT
UID:wdq7@192.168.245.71:3006
SEQUENCE:0
DTSTAMP:20260422T063736Z
DTSTART:20260429T070000Z
DTEND:20260429T084000Z
SUMMARY:Релейная защита электроэнергетических систем
LOCATION:5 к. 304
END:VEVENT
BEGIN:VEVENT
UID:b8iu@192.168.245.71:3006
SEQUENCE:0
DTSTAMP:20260422T063736Z
DTSTART:20260429T090000Z
DTEND:20260429T104000Z
SUMMARY:Релейная защита электроэнергетических систем
LOCATION:ГЗ 225
END:VEVENT
BEGIN:VEVENT
UID:lc5e@192.168.245.71:3006
SEQUENCE:0
DTSTAMP:20260422T063736Z
DTSTART:20260429T110000Z
DTEND:20260429T124000Z
SUMMARY:Электромеханические переходные процессы
LOCATION:Мех. к. 9
END:VEVENT
BEGIN:VEVENT
UID:fwqn@192.168.245.71:3006
SEQUENCE:0
DTSTAMP:20260422T063736Z
DTSTART:20260430T070000Z
DTEND:20260430T084000Z
SUMMARY:Электрические станции и подстанции
LOCATION:5 к. 305
END:VEVENT
BEGIN:VEVENT
UID:gmc3@192.168.245.71:3006
SEQUENCE:0
DTSTAMP:20260422T063736Z
DTSTART:20260430T090000Z
DTEND:20260430T104000Z
SUMMARY:Релейная защита электроэнергетических систем
LOCATION:5 к. 301
END:VEVENT
BEGIN:VEVENT
UID:7u55@192.168.245.71:3006
SEQUENCE:0
DTSTAMP:20260422T063736Z
DTSTART:20260430T110000Z
DTEND:20260430T124000Z
SUMMARY:Электрические станции и подстанции
LOCATION:5 к. 305
END:VEVENT
BEGIN:VEVENT
UID:3wsh@192.168.245.71:3006
SEQUENCE:0
DTSTAMP:20260422T063736Z
DTSTART:20260430T130000Z
DTEND:20260430T144000Z
SUMMARY:Электрические станции и подстанции
LOCATION:5 к. 305
END:VEVENT
END:VCALENDAR