BEGIN:VCALENDAR
VERSION:2.0
PRODID:-//spbstu.ru//ical//RU
NAME:Расписание группы 3231302/20701
X-WR-CALNAME:Расписание группы 3231302/20701
TIMEZONE-ID:Europe/Moscow
X-WR-TIMEZONE:Europe/Moscow
BEGIN:VEVENT
UID:ss7k@192.168.245.71:3006
SEQUENCE:0
DTSTAMP:20260424T055208Z
DTSTART:20251216T050000Z
DTEND:20251216T150000Z
SUMMARY:Военная подготовка
LOCATION:Военная каф. кафедра
END:VEVENT
BEGIN:VEVENT
UID:zbex@192.168.245.71:3006
SEQUENCE:0
DTSTAMP:20260424T055208Z
DTSTART:20251217T070000Z
DTEND:20251217T110000Z
SUMMARY:Проектирование испытательных и электрофизических установок
LOCATION:ТВН 305
END:VEVENT
BEGIN:VEVENT
UID:d6eo@192.168.245.71:3006
SEQUENCE:0
DTSTAMP:20260424T055208Z
DTSTART:20251218T070000Z
DTEND:20251218T100000Z
SUMMARY:Испытательные и электрофизические установки
LOCATION:ТВН 305
END:VEVENT
BEGIN:VEVENT
UID:z8p1@192.168.245.71:3006
SEQUENCE:0
DTSTAMP:20260424T055208Z
DTSTART:20251220T070000Z
DTEND:20251220T100000Z
SUMMARY:Лабораторный научно-исследовательский практикум
LOCATION:ТВН 301
END:VEVENT
BEGIN:VEVENT
UID:1o15@192.168.245.71:3006
SEQUENCE:0
DTSTAMP:20260424T055208Z
DTSTART:20251220T070000Z
DTEND:20251220T100000Z
SUMMARY:Лабораторный научно-исследовательский практикум
LOCATION:ТВН 301
END:VEVENT
END:VCALENDAR