BEGIN:VCALENDAR
VERSION:2.0
PRODID:-//spbstu.ru//ical//RU
NAME:Расписание группы 3231302/20701
X-WR-CALNAME:Расписание группы 3231302/20701
TIMEZONE-ID:Europe/Moscow
X-WR-TIMEZONE:Europe/Moscow
BEGIN:VEVENT
UID:2qjl@192.168.245.71:3006
SEQUENCE:0
DTSTAMP:20260421T182654Z
DTSTART:20260406T070000Z
DTEND:20260406T084000Z
SUMMARY:Лабораторный научно-исследовательский практикум
LOCATION:ТВН 301
END:VEVENT
BEGIN:VEVENT
UID:kh0h@192.168.245.71:3006
SEQUENCE:0
DTSTAMP:20260421T182654Z
DTSTART:20260406T070000Z
DTEND:20260406T084000Z
SUMMARY:Лабораторный научно-исследовательский практикум
LOCATION:ТВН 301
END:VEVENT
BEGIN:VEVENT
UID:i9jn@192.168.245.71:3006
SEQUENCE:0
DTSTAMP:20260421T182654Z
DTSTART:20260406T090000Z
DTEND:20260406T104000Z
SUMMARY:Электротехнологии
LOCATION:ГЗ 150
END:VEVENT
BEGIN:VEVENT
UID:1uy4@192.168.245.71:3006
SEQUENCE:0
DTSTAMP:20260421T182654Z
DTSTART:20260407T070000Z
DTEND:20260407T150000Z
SUMMARY:Военная подготовка
LOCATION:Военная каф. кафедра
END:VEVENT
BEGIN:VEVENT
UID:ykff@192.168.245.71:3006
SEQUENCE:0
DTSTAMP:20260421T182654Z
DTSTART:20260408T090000Z
DTEND:20260408T104000Z
SUMMARY:Внешняя изоляция высоковольтного оборудования
LOCATION:ВИТ 302
END:VEVENT
BEGIN:VEVENT
UID:uayt@192.168.245.71:3006
SEQUENCE:0
DTSTAMP:20260421T182654Z
DTSTART:20260408T110000Z
DTEND:20260408T144000Z
SUMMARY:Лабораторный научно-исследовательский практикум
LOCATION:ТВН 301
END:VEVENT
BEGIN:VEVENT
UID:55lb@192.168.245.71:3006
SEQUENCE:0
DTSTAMP:20260421T182654Z
DTSTART:20260408T110000Z
DTEND:20260408T144000Z
SUMMARY:Лабораторный научно-исследовательский практикум
LOCATION:ТВН 301
END:VEVENT
BEGIN:VEVENT
UID:pu79@192.168.245.71:3006
SEQUENCE:0
DTSTAMP:20260421T182654Z
DTSTART:20260409T090000Z
DTEND:20260409T104000Z
SUMMARY:Перенапряжения и координация изоляции
LOCATION:ВИТ 402
END:VEVENT
BEGIN:VEVENT
UID:ctrf@192.168.245.71:3006
SEQUENCE:0
DTSTAMP:20260421T182654Z
DTSTART:20260409T110000Z
DTEND:20260409T124000Z
SUMMARY:Перенапряжения и координация изоляции
LOCATION:ВИТ 402
END:VEVENT
END:VCALENDAR