BEGIN:VCALENDAR
VERSION:2.0
PRODID:-//spbstu.ru//ical//RU
NAME:Расписание группы 3231303/20401
X-WR-CALNAME:Расписание группы 3231303/20401
TIMEZONE-ID:Europe/Moscow
X-WR-TIMEZONE:Europe/Moscow
BEGIN:VEVENT
UID:xece@192.168.245.71:3006
SEQUENCE:0
DTSTAMP:20260423T112916Z
DTSTART:20251117T070000Z
DTEND:20251117T084000Z
SUMMARY:Системы и процессы топливоподачи
LOCATION:Мех. к. Учебная лаб. ДВС №84
END:VEVENT
BEGIN:VEVENT
UID:ilg9@192.168.245.71:3006
SEQUENCE:0
DTSTAMP:20260423T112916Z
DTSTART:20251117T090000Z
DTEND:20251117T104000Z
SUMMARY:Системы и процессы топливоподачи
LOCATION:Мех. к. Учебная лаб. ДВС №84
END:VEVENT
BEGIN:VEVENT
UID:04u3@192.168.245.71:3006
SEQUENCE:0
DTSTAMP:20260423T112916Z
DTSTART:20251117T110000Z
DTEND:20251117T124000Z
SUMMARY:Инженерный практикум
LOCATION:Мех. к. Уч. кл. ДВС №82
END:VEVENT
BEGIN:VEVENT
UID:6dgt@192.168.245.71:3006
SEQUENCE:0
DTSTAMP:20260423T112916Z
DTSTART:20251118T070000Z
DTEND:20251118T143000Z
SUMMARY:Военная подготовка
LOCATION:Военная каф. кафедра
END:VEVENT
BEGIN:VEVENT
UID:6zor@192.168.245.71:3006
SEQUENCE:0
DTSTAMP:20260423T112916Z
DTSTART:20251119T070000Z
DTEND:20251119T084000Z
SUMMARY:Вычислительная гидро-газодинамика
LOCATION:ГЗ 244
END:VEVENT
BEGIN:VEVENT
UID:n256@192.168.245.71:3006
SEQUENCE:0
DTSTAMP:20260423T112916Z
DTSTART:20251119T090000Z
DTEND:20251119T104000Z
SUMMARY:Проектирование ДВС
LOCATION:Мех. к. Учебная лаб. ДВС №84
END:VEVENT
BEGIN:VEVENT
UID:isal@192.168.245.71:3006
SEQUENCE:0
DTSTAMP:20260423T112916Z
DTSTART:20251119T110000Z
DTEND:20251119T124000Z
SUMMARY:Диагностика ДВС
LOCATION:Мех. к. Учебная лаб. ДВС №84
END:VEVENT
BEGIN:VEVENT
UID:ea4x@192.168.245.71:3006
SEQUENCE:0
DTSTAMP:20260423T112916Z
DTSTART:20251120T070000Z
DTEND:20251120T084000Z
SUMMARY:Теория автоматического регулирования
LOCATION:Мех. к. Уч. кл. ДВС №82
END:VEVENT
BEGIN:VEVENT
UID:0ae4@192.168.245.71:3006
SEQUENCE:0
DTSTAMP:20260423T112916Z
DTSTART:20251120T090000Z
DTEND:20251120T104000Z
SUMMARY:Теория автоматического регулирования
LOCATION:Мех. к. Уч. кл. ДВС №82
END:VEVENT
BEGIN:VEVENT
UID:hr3t@192.168.245.71:3006
SEQUENCE:0
DTSTAMP:20260423T112916Z
DTSTART:20251120T110000Z
DTEND:20251120T124000Z
SUMMARY:Моделирование процессов в ДВС
LOCATION:Мех. к. Учебная лаб. ДВС №84
END:VEVENT
BEGIN:VEVENT
UID:14th@192.168.245.71:3006
SEQUENCE:0
DTSTAMP:20260423T112916Z
DTSTART:20251120T130000Z
DTEND:20251120T144000Z
SUMMARY:Моделирование процессов в ДВС
LOCATION:Мех. к. Учебная лаб. ДВС №84
END:VEVENT
BEGIN:VEVENT
UID:moec@192.168.245.71:3006
SEQUENCE:0
DTSTAMP:20260423T112916Z
DTSTART:20251121T070000Z
DTEND:20251121T084000Z
SUMMARY:Расчет динамики и прочности ДВС
LOCATION:Мех. к. Комп. кл. ДВС №210
END:VEVENT
BEGIN:VEVENT
UID:oza8@192.168.245.71:3006
SEQUENCE:0
DTSTAMP:20260423T112916Z
DTSTART:20251121T090000Z
DTEND:20251121T104000Z
SUMMARY:Вычислительная гидро-газодинамика
LOCATION:Мех. к. Комп. кл. №7
END:VEVENT
BEGIN:VEVENT
UID:etb8@192.168.245.71:3006
SEQUENCE:0
DTSTAMP:20260423T112916Z
DTSTART:20251121T110000Z
DTEND:20251121T124000Z
SUMMARY:Установки с ДВС
LOCATION:Мех. к. Уч. кл. ДВС №82
END:VEVENT
END:VCALENDAR