BEGIN:VCALENDAR
VERSION:2.0
PRODID:-//spbstu.ru//ical//RU
NAME:Расписание группы 3231303/20401
X-WR-CALNAME:Расписание группы 3231303/20401
TIMEZONE-ID:Europe/Moscow
X-WR-TIMEZONE:Europe/Moscow
BEGIN:VEVENT
UID:m4ad@192.168.245.71:3006
SEQUENCE:0
DTSTAMP:20260422T192517Z
DTSTART:20251222T070000Z
DTEND:20251222T110000Z
SUMMARY:Современные технологии безуглеродной энергетики
LOCATION:Мех. к. Учебная лаб. ДВС №84
END:VEVENT
BEGIN:VEVENT
UID:8216@192.168.245.71:3006
SEQUENCE:0
DTSTAMP:20260422T192517Z
DTSTART:20251223T070000Z
DTEND:20251223T110000Z
SUMMARY:Расчет динамики и прочности ДВС
LOCATION:Мех. к. Комп. кл. ДВС №210
END:VEVENT
BEGIN:VEVENT
UID:egwr@192.168.245.71:3006
SEQUENCE:0
DTSTAMP:20260422T192517Z
DTSTART:20251224T070000Z
DTEND:20251224T110000Z
SUMMARY:Установки с ДВС
LOCATION:Мех. к. Уч. кл. ДВС №82
END:VEVENT
BEGIN:VEVENT
UID:k7pm@192.168.245.71:3006
SEQUENCE:0
DTSTAMP:20260422T192517Z
DTSTART:20251226T070000Z
DTEND:20251226T110000Z
SUMMARY:Вычислительная гидро-газодинамика
LOCATION:ГЗ 220
END:VEVENT
BEGIN:VEVENT
UID:9sr6@192.168.245.71:3006
SEQUENCE:0
DTSTAMP:20260422T192517Z
DTSTART:20251227T070000Z
DTEND:20251227T113000Z
SUMMARY:Проектирование ДВС
LOCATION:Мех. к. Учебная лаб. ДВС №84
END:VEVENT
END:VCALENDAR