BEGIN:VCALENDAR
VERSION:2.0
PRODID:-//spbstu.ru//ical//RU
NAME:Расписание группы 3231303/20401
X-WR-CALNAME:Расписание группы 3231303/20401
TIMEZONE-ID:Europe/Moscow
X-WR-TIMEZONE:Europe/Moscow
BEGIN:VEVENT
UID:ms5s@192.168.245.71:3006
SEQUENCE:0
DTSTAMP:20260426T040359Z
DTSTART:20250908T070000Z
DTEND:20250908T084000Z
SUMMARY:Системы и процессы топливоподачи
LOCATION:Мех. к. Учебная лаб. ДВС №84
END:VEVENT
BEGIN:VEVENT
UID:t6xn@192.168.245.71:3006
SEQUENCE:0
DTSTAMP:20260426T040359Z
DTSTART:20250908T090000Z
DTEND:20250908T104000Z
SUMMARY:Системы и процессы топливоподачи
LOCATION:Мех. к. Учебная лаб. ДВС №84
END:VEVENT
BEGIN:VEVENT
UID:pnb9@192.168.245.71:3006
SEQUENCE:0
DTSTAMP:20260426T040359Z
DTSTART:20250908T110000Z
DTEND:20250908T124000Z
SUMMARY:Инженерный практикум
LOCATION:Мех. к. Уч. кл. ДВС №82
END:VEVENT
BEGIN:VEVENT
UID:if9h@192.168.245.71:3006
SEQUENCE:0
DTSTAMP:20260426T040359Z
DTSTART:20250909T070000Z
DTEND:20250909T143000Z
SUMMARY:Военная подготовка
LOCATION:Военная каф. кафедра
END:VEVENT
BEGIN:VEVENT
UID:o6p1@192.168.245.71:3006
SEQUENCE:0
DTSTAMP:20260426T040359Z
DTSTART:20250910T070000Z
DTEND:20250910T084000Z
SUMMARY:Вычислительная гидро-газодинамика
LOCATION:ГЗ 244
END:VEVENT
BEGIN:VEVENT
UID:h7mc@192.168.245.71:3006
SEQUENCE:0
DTSTAMP:20260426T040359Z
DTSTART:20250910T090000Z
DTEND:20250910T104000Z
SUMMARY:Проектирование ДВС
LOCATION:Мех. к. Учебная лаб. ДВС №84
END:VEVENT
BEGIN:VEVENT
UID:anz2@192.168.245.71:3006
SEQUENCE:0
DTSTAMP:20260426T040359Z
DTSTART:20250910T110000Z
DTEND:20250910T124000Z
SUMMARY:Диагностика ДВС
LOCATION:Мех. к. Учебная лаб. ДВС №84
END:VEVENT
BEGIN:VEVENT
UID:rzae@192.168.245.71:3006
SEQUENCE:0
DTSTAMP:20260426T040359Z
DTSTART:20250911T070000Z
DTEND:20250911T084000Z
SUMMARY:Теория автоматического регулирования
LOCATION:Мех. к. Уч. кл. ДВС №82
END:VEVENT
BEGIN:VEVENT
UID:95n1@192.168.245.71:3006
SEQUENCE:0
DTSTAMP:20260426T040359Z
DTSTART:20250911T090000Z
DTEND:20250911T104000Z
SUMMARY:Теория автоматического регулирования
LOCATION:Мех. к. Уч. кл. ДВС №82
END:VEVENT
BEGIN:VEVENT
UID:xj8t@192.168.245.71:3006
SEQUENCE:0
DTSTAMP:20260426T040359Z
DTSTART:20250911T110000Z
DTEND:20250911T124000Z
SUMMARY:Моделирование процессов в ДВС
LOCATION:Мех. к. Учебная лаб. ДВС №84
END:VEVENT
BEGIN:VEVENT
UID:fi3t@192.168.245.71:3006
SEQUENCE:0
DTSTAMP:20260426T040359Z
DTSTART:20250911T130000Z
DTEND:20250911T144000Z
SUMMARY:Моделирование процессов в ДВС
LOCATION:Мех. к. Учебная лаб. ДВС №84
END:VEVENT
BEGIN:VEVENT
UID:85je@192.168.245.71:3006
SEQUENCE:0
DTSTAMP:20260426T040359Z
DTSTART:20250912T070000Z
DTEND:20250912T084000Z
SUMMARY:Расчет динамики и прочности ДВС
LOCATION:Мех. к. Комп. кл. ДВС №210
END:VEVENT
BEGIN:VEVENT
UID:pagn@192.168.245.71:3006
SEQUENCE:0
DTSTAMP:20260426T040359Z
DTSTART:20250912T090000Z
DTEND:20250912T104000Z
SUMMARY:Вычислительная гидро-газодинамика
LOCATION:Мех. к. Комп. кл. №7
END:VEVENT
BEGIN:VEVENT
UID:42uy@192.168.245.71:3006
SEQUENCE:0
DTSTAMP:20260426T040359Z
DTSTART:20250912T110000Z
DTEND:20250912T124000Z
SUMMARY:Установки с ДВС
LOCATION:Мех. к. Уч. кл. ДВС №82
END:VEVENT
END:VCALENDAR