BEGIN:VCALENDAR
VERSION:2.0
PRODID:-//spbstu.ru//ical//RU
NAME:Расписание группы 3231303/20401
X-WR-CALNAME:Расписание группы 3231303/20401
TIMEZONE-ID:Europe/Moscow
X-WR-TIMEZONE:Europe/Moscow
BEGIN:VEVENT
UID:vvv4@192.168.245.71:3006
SEQUENCE:0
DTSTAMP:20260421T045414Z
DTSTART:20260525T070000Z
DTEND:20260525T110000Z
SUMMARY:Теория надежности энергетических машин
LOCATION:Мех. к. Учебная лаб. ДВС №84
END:VEVENT
BEGIN:VEVENT
UID:fnz3@192.168.245.71:3006
SEQUENCE:0
DTSTAMP:20260421T045414Z
DTSTART:20260527T110000Z
DTEND:20260527T150000Z
SUMMARY:Наддув ДВС
LOCATION:Мех. к. Учебная лаб. ДВС №84
END:VEVENT
BEGIN:VEVENT
UID:0vmp@192.168.245.71:3006
SEQUENCE:0
DTSTAMP:20260421T045414Z
DTSTART:20260529T110000Z
DTEND:20260529T150000Z
SUMMARY:Наддув ДВС
LOCATION:Мех. к. Уч. кл. ДВС №82
END:VEVENT
END:VCALENDAR