BEGIN:VCALENDAR
VERSION:2.0
PRODID:-//spbstu.ru//ical//RU
NAME:Расписание группы 3231303/20601
X-WR-CALNAME:Расписание группы 3231303/20601
TIMEZONE-ID:Europe/Moscow
X-WR-TIMEZONE:Europe/Moscow
BEGIN:VEVENT
UID:ia33@192.168.245.71:3006
SEQUENCE:0
DTSTAMP:20260420T230816Z
DTSTART:20260511T070000Z
DTEND:20260511T084000Z
SUMMARY:Теория надежности энергетических машин
LOCATION:Мех. к. Комп. кл. КВХТ №37
END:VEVENT
BEGIN:VEVENT
UID:x8tj@192.168.245.71:3006
SEQUENCE:0
DTSTAMP:20260420T230816Z
DTSTART:20260511T090000Z
DTEND:20260511T104000Z
SUMMARY:Теория надежности энергетических машин
LOCATION:Мех. к. Комп. кл. КВХТ №37
END:VEVENT
BEGIN:VEVENT
UID:k78h@192.168.245.71:3006
SEQUENCE:0
DTSTAMP:20260420T230816Z
DTSTART:20260511T110000Z
DTEND:20260511T124000Z
SUMMARY:Экономика и управление машиностроительным предприятием
LOCATION:ГЗ 282
END:VEVENT
BEGIN:VEVENT
UID:q4os@192.168.245.71:3006
SEQUENCE:0
DTSTAMP:20260420T230816Z
DTSTART:20260511T130000Z
DTEND:20260511T144000Z
SUMMARY:Экономика и управление машиностроительным предприятием
LOCATION:ГЗ 208
END:VEVENT
BEGIN:VEVENT
UID:8zbf@192.168.245.71:3006
SEQUENCE:0
DTSTAMP:20260420T230816Z
DTSTART:20260512T070000Z
DTEND:20260512T150000Z
SUMMARY:Военная подготовка
LOCATION:Военная каф. кафедра
END:VEVENT
BEGIN:VEVENT
UID:oyu6@192.168.245.71:3006
SEQUENCE:0
DTSTAMP:20260420T230816Z
DTSTART:20260513T070000Z
DTEND:20260513T084000Z
SUMMARY:Экономика и управление машиностроительным предприятием
LOCATION:ГЗ 282
END:VEVENT
BEGIN:VEVENT
UID:660j@192.168.245.71:3006
SEQUENCE:0
DTSTAMP:20260420T230816Z
DTSTART:20260513T090000Z
DTEND:20260513T104000Z
SUMMARY:Экономика и управление машиностроительным предприятием
LOCATION:ГЗ 106
END:VEVENT
END:VCALENDAR