BEGIN:VCALENDAR
VERSION:2.0
PRODID:-//spbstu.ru//ical//RU
NAME:Расписание группы 3231303/21202 п/г 1
X-WR-CALNAME:Расписание группы 3231303/21202 п/г 1
TIMEZONE-ID:Europe/Moscow
X-WR-TIMEZONE:Europe/Moscow
BEGIN:VEVENT
UID:c2se@192.168.245.71:3006
SEQUENCE:0
DTSTAMP:20260421T155314Z
DTSTART:20260209T090000Z
DTEND:20260209T104000Z
SUMMARY:Теория надежности энергетических машин
LOCATION:Мех. к. Лаб.турбиностроения им. И.И. Кириллова
END:VEVENT
BEGIN:VEVENT
UID:92vi@192.168.245.71:3006
SEQUENCE:0
DTSTAMP:20260421T155314Z
DTSTART:20260209T110000Z
DTEND:20260209T124000Z
SUMMARY:Экономика и управление машиностроительным предприятием
LOCATION:ГЗ 282
END:VEVENT
BEGIN:VEVENT
UID:rtsx@192.168.245.71:3006
SEQUENCE:0
DTSTAMP:20260421T155314Z
DTSTART:20260209T130000Z
DTEND:20260209T144000Z
SUMMARY:Экономика и управление машиностроительным предприятием
LOCATION:ГЗ 208
END:VEVENT
BEGIN:VEVENT
UID:0a6y@192.168.245.71:3006
SEQUENCE:0
DTSTAMP:20260421T155314Z
DTSTART:20260210T070000Z
DTEND:20260210T150000Z
SUMMARY:Военная подготовка
LOCATION:Военная каф. кафедра
END:VEVENT
BEGIN:VEVENT
UID:t5is@192.168.245.71:3006
SEQUENCE:0
DTSTAMP:20260421T155314Z
DTSTART:20260210T130000Z
DTEND:20260210T144000Z
SUMMARY:Экспериментальные исследования и промышленные испытания энергетиче
 ских установок
LOCATION:ТВН ГМ уч.ауд.№316
END:VEVENT
BEGIN:VEVENT
UID:qp8a@192.168.245.71:3006
SEQUENCE:0
DTSTAMP:20260421T155314Z
DTSTART:20260211T150000Z
DTEND:20260211T164000Z
SUMMARY:Вычислительная гидро-газодинамика
LOCATION:Хим. к. 9
END:VEVENT
BEGIN:VEVENT
UID:0lrr@192.168.245.71:3006
SEQUENCE:0
DTSTAMP:20260421T155314Z
DTSTART:20260212T090000Z
DTEND:20260212T104000Z
SUMMARY:Экспериментальные исследования и промышленные испытания энергетиче
 ских установок
LOCATION:Мех. к. Лаб.турбиностроения им. И.И. Кириллова
END:VEVENT
BEGIN:VEVENT
UID:wvb6@192.168.245.71:3006
SEQUENCE:0
DTSTAMP:20260421T155314Z
DTSTART:20260212T110000Z
DTEND:20260212T124000Z
SUMMARY:Экспериментальные исследования и промышленные испытания энергетиче
 ских установок
LOCATION:Мех. к. ВЦ
END:VEVENT
BEGIN:VEVENT
UID:zjuv@192.168.245.71:3006
SEQUENCE:0
DTSTAMP:20260421T155314Z
DTSTART:20260212T130000Z
DTEND:20260212T144000Z
SUMMARY:Технологии машиностроения
LOCATION:ГЗ 218
END:VEVENT
BEGIN:VEVENT
UID:geao@192.168.245.71:3006
SEQUENCE:0
DTSTAMP:20260421T155314Z
DTSTART:20260213T110000Z
DTEND:20260213T124000Z
SUMMARY:Инженерный практикум
LOCATION:ГЗ 211
END:VEVENT
BEGIN:VEVENT
UID:60vz@192.168.245.71:3006
SEQUENCE:0
DTSTAMP:20260421T155314Z
DTSTART:20260213T130000Z
DTEND:20260213T144000Z
SUMMARY:Технологии машиностроения
LOCATION:ГЗ 153
END:VEVENT
BEGIN:VEVENT
UID:zkp7@192.168.245.71:3006
SEQUENCE:0
DTSTAMP:20260421T155314Z
DTSTART:20260213T150000Z
DTEND:20260213T164000Z
SUMMARY:Инженерный практикум
LOCATION:ГЗ 210
END:VEVENT
BEGIN:VEVENT
UID:8j4y@192.168.245.71:3006
SEQUENCE:0
DTSTAMP:20260421T155314Z
DTSTART:20260214T070000Z
DTEND:20260214T084000Z
SUMMARY:Проектирование и конструирование авиационных двигателей и энергети
 ческих установок
LOCATION:ГЗ 211
END:VEVENT
BEGIN:VEVENT
UID:osod@192.168.245.71:3006
SEQUENCE:0
DTSTAMP:20260421T155314Z
DTSTART:20260214T090000Z
DTEND:20260214T104000Z
SUMMARY:Проектирование и конструирование авиационных двигателей и энергети
 ческих установок
LOCATION:ГЗ 211
END:VEVENT
BEGIN:VEVENT
UID:6aic@192.168.245.71:3006
SEQUENCE:0
DTSTAMP:20260421T155314Z
DTSTART:20260214T110000Z
DTEND:20260214T124000Z
SUMMARY:Проектирование и конструирование авиационных двигателей и энергети
 ческих установок
LOCATION:ГЗ 211
END:VEVENT
END:VCALENDAR