BEGIN:VCALENDAR
VERSION:2.0
PRODID:-//spbstu.ru//ical//RU
NAME:Расписание группы 3231401/20101
X-WR-CALNAME:Расписание группы 3231401/20101
TIMEZONE-ID:Europe/Moscow
X-WR-TIMEZONE:Europe/Moscow
BEGIN:VEVENT
UID:orgu@192.168.245.71:3006
SEQUENCE:0
DTSTAMP:20260423T155042Z
DTSTART:20251020T070000Z
DTEND:20251020T084000Z
SUMMARY:Основы радиационной безопасности
LOCATION:ГЗ 225
END:VEVENT
BEGIN:VEVENT
UID:co8w@192.168.245.71:3006
SEQUENCE:0
DTSTAMP:20260423T155042Z
DTSTART:20251020T090000Z
DTEND:20251020T104000Z
SUMMARY:Тепломассообменное оборудование АЭС
LOCATION:ТВН ВШАиТЭ уч.ауд.№102
END:VEVENT
BEGIN:VEVENT
UID:xq7n@192.168.245.71:3006
SEQUENCE:0
DTSTAMP:20260423T155042Z
DTSTART:20251021T070000Z
DTEND:20251021T143000Z
SUMMARY:Военная подготовка
LOCATION:Военная каф. кафедра
END:VEVENT
BEGIN:VEVENT
UID:vryx@192.168.245.71:3006
SEQUENCE:0
DTSTAMP:20260423T155042Z
DTSTART:20251022T090000Z
DTEND:20251022T104000Z
SUMMARY:Кинетика ядерных реакторов
LOCATION:ГЗ 221
END:VEVENT
BEGIN:VEVENT
UID:nvts@192.168.245.71:3006
SEQUENCE:0
DTSTAMP:20260423T155042Z
DTSTART:20251022T110000Z
DTEND:20251022T124000Z
SUMMARY:Кинетика ядерных реакторов
LOCATION:ГЗ 225
END:VEVENT
BEGIN:VEVENT
UID:880h@192.168.245.71:3006
SEQUENCE:0
DTSTAMP:20260423T155042Z
DTSTART:20251022T130000Z
DTEND:20251022T144000Z
SUMMARY:Тепломассообменное оборудование АЭС
LOCATION:ГЗ 153
END:VEVENT
BEGIN:VEVENT
UID:mc29@192.168.245.71:3006
SEQUENCE:0
DTSTAMP:20260423T155042Z
DTSTART:20251023T070000Z
DTEND:20251023T084000Z
SUMMARY:Теория автоматического управления
LOCATION:ГЗ 209
END:VEVENT
BEGIN:VEVENT
UID:rggg@192.168.245.71:3006
SEQUENCE:0
DTSTAMP:20260423T155042Z
DTSTART:20251023T090000Z
DTEND:20251023T104000Z
SUMMARY:Теория автоматического управления
LOCATION:ГЗ 225
END:VEVENT
BEGIN:VEVENT
UID:wk4r@192.168.245.71:3006
SEQUENCE:0
DTSTAMP:20260423T155042Z
DTSTART:20251023T110000Z
DTEND:20251023T124000Z
SUMMARY:Методы расчета и конструирования ядерных реакторов
LOCATION:ГЗ 225
END:VEVENT
BEGIN:VEVENT
UID:nrey@192.168.245.71:3006
SEQUENCE:0
DTSTAMP:20260423T155042Z
DTSTART:20251023T130000Z
DTEND:20251023T144000Z
SUMMARY:Насосы ТЭС и АЭС
LOCATION:ГЗ 224
END:VEVENT
BEGIN:VEVENT
UID:21jg@192.168.245.71:3006
SEQUENCE:0
DTSTAMP:20260423T155042Z
DTSTART:20251024T070000Z
DTEND:20251024T084000Z
SUMMARY:Электрооборудование ТЭС и АЭС
LOCATION:ГЗ 101
END:VEVENT
BEGIN:VEVENT
UID:un23@192.168.245.71:3006
SEQUENCE:0
DTSTAMP:20260423T155042Z
DTSTART:20251024T090000Z
DTEND:20251024T104000Z
SUMMARY:Электрооборудование ТЭС и АЭС
LOCATION:ГЗ 210
END:VEVENT
BEGIN:VEVENT
UID:j4tc@192.168.245.71:3006
SEQUENCE:0
DTSTAMP:20260423T155042Z
DTSTART:20251024T110000Z
DTEND:20251024T124000Z
SUMMARY:Насосы ТЭС и АЭС
LOCATION:ГЗ 211
END:VEVENT
BEGIN:VEVENT
UID:y8e1@192.168.245.71:3006
SEQUENCE:0
DTSTAMP:20260423T155042Z
DTSTART:20251024T130000Z
DTEND:20251024T144000Z
SUMMARY:Надежность оборудования ЭУ
LOCATION:ГЗ 283
END:VEVENT
BEGIN:VEVENT
UID:66pq@192.168.245.71:3006
SEQUENCE:0
DTSTAMP:20260423T155042Z
DTSTART:20251025T090000Z
DTEND:20251025T104000Z
SUMMARY:Основы радиоэкологии
LOCATION:ГЗ 209
END:VEVENT
BEGIN:VEVENT
UID:dno7@192.168.245.71:3006
SEQUENCE:0
DTSTAMP:20260423T155042Z
DTSTART:20251025T110000Z
DTEND:20251025T124000Z
SUMMARY:Методы расчета и конструирования ядерных реакторов
LOCATION:ГЗ 208
END:VEVENT
END:VCALENDAR