BEGIN:VCALENDAR
VERSION:2.0
PRODID:-//spbstu.ru//ical//RU
NAME:Расписание группы 3231401/20101
X-WR-CALNAME:Расписание группы 3231401/20101
TIMEZONE-ID:Europe/Moscow
X-WR-TIMEZONE:Europe/Moscow
BEGIN:VEVENT
UID:6eax@192.168.245.71:3006
SEQUENCE:0
DTSTAMP:20260422T221938Z
DTSTART:20251110T070000Z
DTEND:20251110T084000Z
SUMMARY:Основы радиационной безопасности
LOCATION:ГЗ 225
END:VEVENT
BEGIN:VEVENT
UID:z7sb@192.168.245.71:3006
SEQUENCE:0
DTSTAMP:20260422T221938Z
DTSTART:20251110T090000Z
DTEND:20251110T104000Z
SUMMARY:Информационная безопасность
LOCATION:ТВН ВШАиТЭ уч.ауд.№303
END:VEVENT
BEGIN:VEVENT
UID:61lo@192.168.245.71:3006
SEQUENCE:0
DTSTAMP:20260422T221938Z
DTSTART:20251110T110000Z
DTEND:20251110T124000Z
SUMMARY:Информационная безопасность
LOCATION:ТВН ВШАиТЭ уч.ауд.№303
END:VEVENT
BEGIN:VEVENT
UID:66ef@192.168.245.71:3006
SEQUENCE:0
DTSTAMP:20260422T221938Z
DTSTART:20251111T070000Z
DTEND:20251111T143000Z
SUMMARY:Военная подготовка
LOCATION:Военная каф. кафедра
END:VEVENT
BEGIN:VEVENT
UID:p710@192.168.245.71:3006
SEQUENCE:0
DTSTAMP:20260422T221938Z
DTSTART:20251112T110000Z
DTEND:20251112T124000Z
SUMMARY:Кинетика ядерных реакторов
LOCATION:ГЗ 225
END:VEVENT
BEGIN:VEVENT
UID:kz4m@192.168.245.71:3006
SEQUENCE:0
DTSTAMP:20260422T221938Z
DTSTART:20251112T130000Z
DTEND:20251112T144000Z
SUMMARY:Тепломассообменное оборудование АЭС
LOCATION:ГЗ 153
END:VEVENT
BEGIN:VEVENT
UID:30sw@192.168.245.71:3006
SEQUENCE:0
DTSTAMP:20260422T221938Z
DTSTART:20251113T070000Z
DTEND:20251113T084000Z
SUMMARY:Теория автоматического управления
LOCATION:ГЗ 209
END:VEVENT
BEGIN:VEVENT
UID:z0c4@192.168.245.71:3006
SEQUENCE:0
DTSTAMP:20260422T221938Z
DTSTART:20251113T090000Z
DTEND:20251113T104000Z
SUMMARY:Теория автоматического управления
LOCATION:ГЗ 225
END:VEVENT
BEGIN:VEVENT
UID:0wmj@192.168.245.71:3006
SEQUENCE:0
DTSTAMP:20260422T221938Z
DTSTART:20251113T110000Z
DTEND:20251113T124000Z
SUMMARY:Методы расчета и конструирования ядерных реакторов
LOCATION:ГЗ 225
END:VEVENT
BEGIN:VEVENT
UID:1uzm@192.168.245.71:3006
SEQUENCE:0
DTSTAMP:20260422T221938Z
DTSTART:20251114T070000Z
DTEND:20251114T084000Z
SUMMARY:Электрооборудование ТЭС и АЭС
LOCATION:ГЗ 101
END:VEVENT
BEGIN:VEVENT
UID:dswy@192.168.245.71:3006
SEQUENCE:0
DTSTAMP:20260422T221938Z
DTSTART:20251114T090000Z
DTEND:20251114T104000Z
SUMMARY:Надежность оборудования ЭУ
LOCATION:ГЗ 209
END:VEVENT
BEGIN:VEVENT
UID:0rob@192.168.245.71:3006
SEQUENCE:0
DTSTAMP:20260422T221938Z
DTSTART:20251114T110000Z
DTEND:20251114T124000Z
SUMMARY:Насосы ТЭС и АЭС
LOCATION:ГЗ 211
END:VEVENT
BEGIN:VEVENT
UID:6j7g@192.168.245.71:3006
SEQUENCE:0
DTSTAMP:20260422T221938Z
DTSTART:20251114T130000Z
DTEND:20251114T144000Z
SUMMARY:Надежность оборудования ЭУ
LOCATION:ГЗ 283
END:VEVENT
BEGIN:VEVENT
UID:2380@192.168.245.71:3006
SEQUENCE:0
DTSTAMP:20260422T221938Z
DTSTART:20251115T070000Z
DTEND:20251115T084000Z
SUMMARY:Методы расчета и конструирования ядерных реакторов
LOCATION:ГЗ 282
END:VEVENT
BEGIN:VEVENT
UID:f1d3@192.168.245.71:3006
SEQUENCE:0
DTSTAMP:20260422T221938Z
DTSTART:20251115T090000Z
DTEND:20251115T104000Z
SUMMARY:Основы радиоэкологии
LOCATION:ГЗ 283
END:VEVENT
END:VCALENDAR