BEGIN:VCALENDAR
VERSION:2.0
PRODID:-//spbstu.ru//ical//RU
NAME:Расписание группы 3231401/20101
X-WR-CALNAME:Расписание группы 3231401/20101
TIMEZONE-ID:Europe/Moscow
X-WR-TIMEZONE:Europe/Moscow
BEGIN:VEVENT
UID:0gtg@192.168.245.71:3006
SEQUENCE:0
DTSTAMP:20260421T231206Z
DTSTART:20260112T070000Z
DTEND:20260112T130000Z
SUMMARY:Методы расчета и конструирования ядерных реакторов
LOCATION:ГЗ 228
END:VEVENT
BEGIN:VEVENT
UID:54z0@192.168.245.71:3006
SEQUENCE:0
DTSTAMP:20260421T231206Z
DTSTART:20260113T090000Z
DTEND:20260113T104000Z
SUMMARY:Кинетика ядерных реакторов
LOCATION:ГЗ 283
END:VEVENT
BEGIN:VEVENT
UID:ucoo@192.168.245.71:3006
SEQUENCE:0
DTSTAMP:20260421T231206Z
DTSTART:20260115T070000Z
DTEND:20260115T130000Z
SUMMARY:Кинетика ядерных реакторов
LOCATION:ГЗ 226
END:VEVENT
BEGIN:VEVENT
UID:684b@192.168.245.71:3006
SEQUENCE:0
DTSTAMP:20260421T231206Z
DTSTART:20260117T070000Z
DTEND:20260117T084000Z
SUMMARY:Теория автоматического управления
LOCATION:ГЗ 228
END:VEVENT
END:VCALENDAR