BEGIN:VCALENDAR
VERSION:2.0
PRODID:-//spbstu.ru//ical//RU
NAME:Расписание группы 3231401/20101
X-WR-CALNAME:Расписание группы 3231401/20101
TIMEZONE-ID:Europe/Moscow
X-WR-TIMEZONE:Europe/Moscow
BEGIN:VEVENT
UID:nxc0@192.168.245.71:3006
SEQUENCE:0
DTSTAMP:20260422T121953Z
DTSTART:20260109T090000Z
DTEND:20260109T104000Z
SUMMARY:Методы расчета и конструирования ядерных реакторов
LOCATION:ГЗ 228
END:VEVENT
END:VCALENDAR