BEGIN:VCALENDAR
VERSION:2.0
PRODID:-//spbstu.ru//ical//RU
NAME:Расписание группы 3251402/20102
X-WR-CALNAME:Расписание группы 3251402/20102
TIMEZONE-ID:Europe/Moscow
X-WR-TIMEZONE:Europe/Moscow
BEGIN:VEVENT
UID:kjeb@192.168.245.71:3006
SEQUENCE:0
DTSTAMP:20260421T200850Z
DTSTART:20260209T070000Z
DTEND:20260209T084000Z
SUMMARY:Основы безопасности АЭС
LOCATION:ГЗ 282
END:VEVENT
BEGIN:VEVENT
UID:6c35@192.168.245.71:3006
SEQUENCE:0
DTSTAMP:20260421T200850Z
DTSTART:20260209T090000Z
DTEND:20260209T104000Z
SUMMARY:Защита от ионизирующих излучений
LOCATION:ГЗ 282
END:VEVENT
BEGIN:VEVENT
UID:u1ln@192.168.245.71:3006
SEQUENCE:0
DTSTAMP:20260421T200850Z
DTSTART:20260209T110000Z
DTEND:20260209T124000Z
SUMMARY:Экспериментальная реакторная физика
LOCATION:ГЗ 138
END:VEVENT
BEGIN:VEVENT
UID:1gy4@192.168.245.71:3006
SEQUENCE:0
DTSTAMP:20260421T200850Z
DTSTART:20260209T130000Z
DTEND:20260209T144000Z
SUMMARY:Экспериментальная реакторная физика
LOCATION:ГЗ 138
END:VEVENT
BEGIN:VEVENT
UID:n6tn@192.168.245.71:3006
SEQUENCE:0
DTSTAMP:20260421T200850Z
DTSTART:20260210T070000Z
DTEND:20260210T150000Z
SUMMARY:Военная подготовка
LOCATION:Военная каф. кафедра
END:VEVENT
BEGIN:VEVENT
UID:k66q@192.168.245.71:3006
SEQUENCE:0
DTSTAMP:20260421T200850Z
DTSTART:20260211T070000Z
DTEND:20260211T084000Z
SUMMARY:Расчет тепловых схем АЭС
LOCATION:ТВН ВШАиТЭ уч.ауд.№303
END:VEVENT
BEGIN:VEVENT
UID:vbwh@192.168.245.71:3006
SEQUENCE:0
DTSTAMP:20260421T200850Z
DTSTART:20260211T090000Z
DTEND:20260211T104000Z
SUMMARY:Методы расчета и конструирования парогенераторов
LOCATION:ГЗ 227
END:VEVENT
BEGIN:VEVENT
UID:vhk0@192.168.245.71:3006
SEQUENCE:0
DTSTAMP:20260421T200850Z
DTSTART:20260211T110000Z
DTEND:20260211T124000Z
SUMMARY:Режимы ПТУ
LOCATION:ГЗ 215
END:VEVENT
BEGIN:VEVENT
UID:pdal@192.168.245.71:3006
SEQUENCE:0
DTSTAMP:20260421T200850Z
DTSTART:20260211T130000Z
DTEND:20260211T144000Z
SUMMARY:Режимы ПТУ
LOCATION:ГЗ 244
END:VEVENT
BEGIN:VEVENT
UID:5yyi@192.168.245.71:3006
SEQUENCE:0
DTSTAMP:20260421T200850Z
DTSTART:20260212T090000Z
DTEND:20260212T104000Z
SUMMARY:Методы расчета и конструирования парогенераторов
LOCATION:ГЗ 282
END:VEVENT
BEGIN:VEVENT
UID:qdw5@192.168.245.71:3006
SEQUENCE:0
DTSTAMP:20260421T200850Z
DTSTART:20260212T110000Z
DTEND:20260212T124000Z
SUMMARY:Лабораторный практикум по моделированию защиты от ионизирующих изл
 учений
LOCATION:ТВН ВШАиТЭ уч.ауд.№302а
END:VEVENT
BEGIN:VEVENT
UID:2k8e@192.168.245.71:3006
SEQUENCE:0
DTSTAMP:20260421T200850Z
DTSTART:20260213T090000Z
DTEND:20260213T104000Z
SUMMARY:Проектирование АЭС
LOCATION:ТВН ВШАиТЭ уч.ауд.№303
END:VEVENT
BEGIN:VEVENT
UID:mzwh@192.168.245.71:3006
SEQUENCE:0
DTSTAMP:20260421T200850Z
DTSTART:20260213T110000Z
DTEND:20260213T124000Z
SUMMARY:Технология производства оборудования РУ
LOCATION:ГЗ 280
END:VEVENT
BEGIN:VEVENT
UID:zamv@192.168.245.71:3006
SEQUENCE:0
DTSTAMP:20260421T200850Z
DTSTART:20260213T130000Z
DTEND:20260213T144000Z
SUMMARY:Технология производства оборудования РУ
LOCATION:ГЗ 218
END:VEVENT
BEGIN:VEVENT
UID:g3fy@192.168.245.71:3006
SEQUENCE:0
DTSTAMP:20260421T200850Z
DTSTART:20260213T143000Z
DTEND:20260213T153000Z
SUMMARY:Надежность оборудования ЭУ
LOCATION:ГЗ 280
END:VEVENT
BEGIN:VEVENT
UID:3a1b@192.168.245.71:3006
SEQUENCE:0
DTSTAMP:20260421T200850Z
DTSTART:20260214T090000Z
DTEND:20260214T104000Z
SUMMARY:Атомные электростанции
LOCATION:ГЗ 282
END:VEVENT
BEGIN:VEVENT
UID:58h7@192.168.245.71:3006
SEQUENCE:0
DTSTAMP:20260421T200850Z
DTSTART:20260214T110000Z
DTEND:20260214T124000Z
SUMMARY:Атомные электростанции
LOCATION:ГЗ 282
END:VEVENT
BEGIN:VEVENT
UID:7sv4@192.168.245.71:3006
SEQUENCE:0
DTSTAMP:20260421T200850Z
DTSTART:20260214T150000Z
DTEND:20260214T164000Z
SUMMARY:Методы расчета и конструирования ядерных реакторов
LOCATION:ГЗ 225
END:VEVENT
END:VCALENDAR