BEGIN:VCALENDAR
VERSION:2.0
PRODID:-//spbstu.ru//ical//RU
NAME:Расписание группы 3251402/20102
X-WR-CALNAME:Расписание группы 3251402/20102
TIMEZONE-ID:Europe/Moscow
X-WR-TIMEZONE:Europe/Moscow
BEGIN:VEVENT
UID:k3uh@192.168.245.71:3006
SEQUENCE:0
DTSTAMP:20260421T095553Z
DTSTART:20260617T070000Z
DTEND:20260617T084000Z
SUMMARY:Защита от ионизирующих излучений
LOCATION:ГЗ 282
END:VEVENT
BEGIN:VEVENT
UID:zgte@192.168.245.71:3006
SEQUENCE:0
DTSTAMP:20260421T095553Z
DTSTART:20260618T070000Z
DTEND:20260618T130000Z
SUMMARY:Защита от ионизирующих излучений
LOCATION:ГЗ 282
END:VEVENT
BEGIN:VEVENT
UID:f1ex@192.168.245.71:3006
SEQUENCE:0
DTSTAMP:20260421T095553Z
DTSTART:20260620T070000Z
DTEND:20260620T084000Z
SUMMARY:Основы безопасности АЭС
LOCATION:ТВН ВШАиТЭ уч.ауд.№303
END:VEVENT
END:VCALENDAR