BEGIN:VCALENDAR
VERSION:2.0
PRODID:-//spbstu.ru//ical//RU
NAME:Расписание группы 3251402/10101
X-WR-CALNAME:Расписание группы 3251402/10101
TIMEZONE-ID:Europe/Moscow
X-WR-TIMEZONE:Europe/Moscow
BEGIN:VEVENT
UID:e7fo@192.168.245.71:3006
SEQUENCE:0
DTSTAMP:20260421T041015Z
DTSTART:20260511T090000Z
DTEND:20260511T104000Z
SUMMARY:Управление проектами
LOCATION:ТВН ВШАиТЭ уч.ауд.№302а
END:VEVENT
BEGIN:VEVENT
UID:7bk5@192.168.245.71:3006
SEQUENCE:0
DTSTAMP:20260421T041015Z
DTSTART:20260511T110000Z
DTEND:20260511T124000Z
SUMMARY:Численные методы в исследовании теплофизических процессов
LOCATION:ТВН ВШАиТЭ уч.ауд.№303
END:VEVENT
BEGIN:VEVENT
UID:zu6y@192.168.245.71:3006
SEQUENCE:0
DTSTAMP:20260421T041015Z
DTSTART:20260512T090000Z
DTEND:20260512T104000Z
SUMMARY:Радиационная безопасность АЭС
LOCATION:ГЗ 280
END:VEVENT
BEGIN:VEVENT
UID:2yw5@192.168.245.71:3006
SEQUENCE:0
DTSTAMP:20260421T041015Z
DTSTART:20260512T110000Z
DTEND:20260512T124000Z
SUMMARY:Моделирование и алгоритмизация задач энергетики
LOCATION:ГЗ 280
END:VEVENT
BEGIN:VEVENT
UID:bjd3@192.168.245.71:3006
SEQUENCE:0
DTSTAMP:20260421T041015Z
DTSTART:20260515T110000Z
DTEND:20260515T124000Z
SUMMARY:Диагностика оборудования АЭС
LOCATION:ГЗ 108
END:VEVENT
BEGIN:VEVENT
UID:ft7a@192.168.245.71:3006
SEQUENCE:0
DTSTAMP:20260421T041015Z
DTSTART:20260515T130000Z
DTEND:20260515T144000Z
SUMMARY:Диагностика оборудования АЭС
LOCATION:ГЗ 280
END:VEVENT
BEGIN:VEVENT
UID:h5b0@192.168.245.71:3006
SEQUENCE:0
DTSTAMP:20260421T041015Z
DTSTART:20260515T150000Z
DTEND:20260515T164000Z
SUMMARY:Практика
LOCATION:ТВН ВШАиТЭ уч.ауд.№303
END:VEVENT
BEGIN:VEVENT
UID:lxa4@192.168.245.71:3006
SEQUENCE:0
DTSTAMP:20260421T041015Z
DTSTART:20260516T070000Z
DTEND:20260516T084000Z
SUMMARY:Теплофизика реакторов\, динамика жидкостей и газов
LOCATION:ГЗ 225
END:VEVENT
BEGIN:VEVENT
UID:jtbu@192.168.245.71:3006
SEQUENCE:0
DTSTAMP:20260421T041015Z
DTSTART:20260516T090000Z
DTEND:20260516T104000Z
SUMMARY:Теплофизика реакторов\, динамика жидкостей и газов
LOCATION:ГЗ 225
END:VEVENT
BEGIN:VEVENT
UID:mhze@192.168.245.71:3006
SEQUENCE:0
DTSTAMP:20260421T041015Z
DTSTART:20260516T130000Z
DTEND:20260516T144000Z
SUMMARY:Динамика ядерных реакторов
LOCATION:ГЗ 225
END:VEVENT
END:VCALENDAR