BEGIN:VCALENDAR
VERSION:2.0
PRODID:-//spbstu.ru//ical//RU
NAME:Расписание группы 3231303/21202 п/г 2
X-WR-CALNAME:Расписание группы 3231303/21202 п/г 2
TIMEZONE-ID:Europe/Moscow
X-WR-TIMEZONE:Europe/Moscow
BEGIN:VEVENT
UID:tp97@192.168.245.71:3006
SEQUENCE:0
DTSTAMP:20260424T021502Z
DTSTART:20251013T070000Z
DTEND:20251013T084000Z
SUMMARY:Проектирование турбомашин газоперекачивающих агрегатов
LOCATION:НИК А2.22
END:VEVENT
BEGIN:VEVENT
UID:8azg@192.168.245.71:3006
SEQUENCE:0
DTSTAMP:20260424T021502Z
DTSTART:20251013T090000Z
DTEND:20251013T104000Z
SUMMARY:Проектирование турбомашин газоперекачивающих агрегатов
LOCATION:НИК А2.22
END:VEVENT
BEGIN:VEVENT
UID:rn5o@192.168.245.71:3006
SEQUENCE:0
DTSTAMP:20260424T021502Z
DTSTART:20251013T110000Z
DTEND:20251013T124000Z
SUMMARY:Расчет динамики и прочности турбомашин
LOCATION:НИК А2.22
END:VEVENT
BEGIN:VEVENT
UID:bewo@192.168.245.71:3006
SEQUENCE:0
DTSTAMP:20260424T021502Z
DTSTART:20251014T070000Z
DTEND:20251014T143000Z
SUMMARY:Военная подготовка
LOCATION:Военная каф. кафедра
END:VEVENT
BEGIN:VEVENT
UID:m6h9@192.168.245.71:3006
SEQUENCE:0
DTSTAMP:20260424T021502Z
DTSTART:20251015T070000Z
DTEND:20251015T084000Z
SUMMARY:Вычислительная гидро-газодинамика
LOCATION:ГЗ 244
END:VEVENT
BEGIN:VEVENT
UID:5q6v@192.168.245.71:3006
SEQUENCE:0
DTSTAMP:20260424T021502Z
DTSTART:20251015T090000Z
DTEND:20251015T104000Z
SUMMARY:Инженерный практикум
LOCATION:НИК А2.22
END:VEVENT
BEGIN:VEVENT
UID:6tb3@192.168.245.71:3006
SEQUENCE:0
DTSTAMP:20260424T021502Z
DTSTART:20251015T110000Z
DTEND:20251015T124000Z
SUMMARY:Теория автоматического регулирования
LOCATION:Мех. к. ВЦ
END:VEVENT
BEGIN:VEVENT
UID:kpr7@192.168.245.71:3006
SEQUENCE:0
DTSTAMP:20260424T021502Z
DTSTART:20251016T130000Z
DTEND:20251016T144000Z
SUMMARY:Экспериментальные исследования и промышленные испытания энергетиче
 ских установок
LOCATION:Завод АО «Невский за Лаб.
END:VEVENT
BEGIN:VEVENT
UID:s1o8@192.168.245.71:3006
SEQUENCE:0
DTSTAMP:20260424T021502Z
DTSTART:20251016T150000Z
DTEND:20251016T164000Z
SUMMARY:Экспериментальные исследования и промышленные испытания энергетиче
 ских установок
LOCATION:Завод АО «Невский за Лаб.
END:VEVENT
BEGIN:VEVENT
UID:2ik9@192.168.245.71:3006
SEQUENCE:0
DTSTAMP:20260424T021502Z
DTSTART:20251017T070000Z
DTEND:20251017T084000Z
SUMMARY:Основы алгоритмизации и программирования
LOCATION:НИК А2.22
END:VEVENT
BEGIN:VEVENT
UID:y9cl@192.168.245.71:3006
SEQUENCE:0
DTSTAMP:20260424T021502Z
DTSTART:20251017T090000Z
DTEND:20251017T104000Z
SUMMARY:Теория автоматического регулирования
LOCATION:Мех. к. Лаб.турбиностроения им. И.И. Кириллова
END:VEVENT
BEGIN:VEVENT
UID:fczy@192.168.245.71:3006
SEQUENCE:0
DTSTAMP:20260424T021502Z
DTSTART:20251017T110000Z
DTEND:20251017T124000Z
SUMMARY:Энергетические установки
LOCATION:Мех. к. ВЦ
END:VEVENT
BEGIN:VEVENT
UID:0lom@192.168.245.71:3006
SEQUENCE:0
DTSTAMP:20260424T021502Z
DTSTART:20251017T130000Z
DTEND:20251017T144000Z
SUMMARY:Расчет динамики и прочности турбомашин
LOCATION:НИК А2.22
END:VEVENT
END:VCALENDAR