BEGIN:VCALENDAR
VERSION:2.0
PRODID:-//spbstu.ru//ical//RU
NAME:Расписание группы 3231303/21202 п/г 2
X-WR-CALNAME:Расписание группы 3231303/21202 п/г 2
TIMEZONE-ID:Europe/Moscow
X-WR-TIMEZONE:Europe/Moscow
BEGIN:VEVENT
UID:e9zm@192.168.245.71:3006
SEQUENCE:0
DTSTAMP:20260423T171635Z
DTSTART:20251110T070000Z
DTEND:20251110T084000Z
SUMMARY:Проектирование турбомашин газоперекачивающих агрегатов
LOCATION:НИК А2.22
END:VEVENT
BEGIN:VEVENT
UID:zdak@192.168.245.71:3006
SEQUENCE:0
DTSTAMP:20260423T171635Z
DTSTART:20251110T090000Z
DTEND:20251110T104000Z
SUMMARY:Проектирование турбомашин газоперекачивающих агрегатов
LOCATION:НИК А2.22
END:VEVENT
BEGIN:VEVENT
UID:qpl2@192.168.245.71:3006
SEQUENCE:0
DTSTAMP:20260423T171635Z
DTSTART:20251110T110000Z
DTEND:20251110T124000Z
SUMMARY:Расчет динамики и прочности турбомашин
LOCATION:НИК А2.22
END:VEVENT
BEGIN:VEVENT
UID:30k4@192.168.245.71:3006
SEQUENCE:0
DTSTAMP:20260423T171635Z
DTSTART:20251111T070000Z
DTEND:20251111T143000Z
SUMMARY:Военная подготовка
LOCATION:Военная каф. кафедра
END:VEVENT
BEGIN:VEVENT
UID:o5mw@192.168.245.71:3006
SEQUENCE:0
DTSTAMP:20260423T171635Z
DTSTART:20251112T070000Z
DTEND:20251112T084000Z
SUMMARY:Вычислительная гидро-газодинамика
LOCATION:ГЗ 244
END:VEVENT
BEGIN:VEVENT
UID:avqt@192.168.245.71:3006
SEQUENCE:0
DTSTAMP:20260423T171635Z
DTSTART:20251112T090000Z
DTEND:20251112T104000Z
SUMMARY:Инженерный практикум
LOCATION:НИК А2.22
END:VEVENT
BEGIN:VEVENT
UID:epsi@192.168.245.71:3006
SEQUENCE:0
DTSTAMP:20260423T171635Z
DTSTART:20251112T110000Z
DTEND:20251112T124000Z
SUMMARY:Теория автоматического регулирования
LOCATION:Мех. к. ВЦ
END:VEVENT
BEGIN:VEVENT
UID:rws1@192.168.245.71:3006
SEQUENCE:0
DTSTAMP:20260423T171635Z
DTSTART:20251113T130000Z
DTEND:20251113T144000Z
SUMMARY:Экспериментальные исследования и промышленные испытания энергетиче
 ских установок
LOCATION:Завод АО «Невский за Лаб.
END:VEVENT
BEGIN:VEVENT
UID:vi4m@192.168.245.71:3006
SEQUENCE:0
DTSTAMP:20260423T171635Z
DTSTART:20251113T150000Z
DTEND:20251113T164000Z
SUMMARY:Экспериментальные исследования и промышленные испытания энергетиче
 ских установок
LOCATION:Завод АО «Невский за Лаб.
END:VEVENT
BEGIN:VEVENT
UID:ri9u@192.168.245.71:3006
SEQUENCE:0
DTSTAMP:20260423T171635Z
DTSTART:20251114T070000Z
DTEND:20251114T084000Z
SUMMARY:Основы алгоритмизации и программирования
LOCATION:НИК А2.22
END:VEVENT
BEGIN:VEVENT
UID:mkw0@192.168.245.71:3006
SEQUENCE:0
DTSTAMP:20260423T171635Z
DTSTART:20251114T090000Z
DTEND:20251114T104000Z
SUMMARY:Теория автоматического регулирования
LOCATION:Мех. к. Лаб.турбиностроения им. И.И. Кириллова
END:VEVENT
BEGIN:VEVENT
UID:jo21@192.168.245.71:3006
SEQUENCE:0
DTSTAMP:20260423T171635Z
DTSTART:20251114T110000Z
DTEND:20251114T124000Z
SUMMARY:Энергетические установки
LOCATION:Мех. к. ВЦ
END:VEVENT
BEGIN:VEVENT
UID:6mlm@192.168.245.71:3006
SEQUENCE:0
DTSTAMP:20260423T171635Z
DTSTART:20251114T130000Z
DTEND:20251114T144000Z
SUMMARY:Расчет динамики и прочности турбомашин
LOCATION:НИК А2.22
END:VEVENT
END:VCALENDAR