BEGIN:VCALENDAR
VERSION:2.0
PRODID:-//spbstu.ru//ical//RU
NAME:Расписание группы 3231303/21202 п/г 2
X-WR-CALNAME:Расписание группы 3231303/21202 п/г 2
TIMEZONE-ID:Europe/Moscow
X-WR-TIMEZONE:Europe/Moscow
BEGIN:VEVENT
UID:pk7a@192.168.245.71:3006
SEQUENCE:0
DTSTAMP:20260422T221932Z
DTSTART:20251215T070000Z
DTEND:20251215T084000Z
SUMMARY:Проектирование турбомашин газоперекачивающих агрегатов
LOCATION:НИК А2.22
END:VEVENT
BEGIN:VEVENT
UID:8kms@192.168.245.71:3006
SEQUENCE:0
DTSTAMP:20260422T221932Z
DTSTART:20251215T090000Z
DTEND:20251215T104000Z
SUMMARY:Проектирование турбомашин газоперекачивающих агрегатов
LOCATION:НИК А2.22
END:VEVENT
BEGIN:VEVENT
UID:itu9@192.168.245.71:3006
SEQUENCE:0
DTSTAMP:20260422T221932Z
DTSTART:20251215T110000Z
DTEND:20251215T124000Z
SUMMARY:Расчет динамики и прочности турбомашин
LOCATION:НИК А2.22
END:VEVENT
BEGIN:VEVENT
UID:16h0@192.168.245.71:3006
SEQUENCE:0
DTSTAMP:20260422T221932Z
DTSTART:20251216T070000Z
DTEND:20251216T143000Z
SUMMARY:Военная подготовка
LOCATION:Военная каф. кафедра
END:VEVENT
BEGIN:VEVENT
UID:s3q5@192.168.245.71:3006
SEQUENCE:0
DTSTAMP:20260422T221932Z
DTSTART:20251217T070000Z
DTEND:20251217T100000Z
SUMMARY:Проектирование турбомашин газоперекачивающих агрегатов
LOCATION:НИК А2.22
END:VEVENT
BEGIN:VEVENT
UID:my3r@192.168.245.71:3006
SEQUENCE:0
DTSTAMP:20260422T221932Z
DTSTART:20251219T070000Z
DTEND:20251219T100000Z
SUMMARY:Основы алгоритмизации и программирования
LOCATION:НИК А2.22
END:VEVENT
END:VCALENDAR