BEGIN:VCALENDAR
VERSION:2.0
PRODID:-//spbstu.ru//ical//RU
NAME:Расписание группы 3241301/50602
X-WR-CALNAME:Расписание группы 3241301/50602
TIMEZONE-ID:Europe/Moscow
X-WR-TIMEZONE:Europe/Moscow
BEGIN:VEVENT
UID:ghzc@192.168.245.71:3006
SEQUENCE:0
DTSTAMP:20260423T151037Z
DTSTART:20251118T070000Z
DTEND:20251118T084000Z
SUMMARY:Современные проблемы тепловой энергетики
LOCATION:ТВН ВШАиТЭ уч.ауд.№303
END:VEVENT
BEGIN:VEVENT
UID:rfc1@192.168.245.71:3006
SEQUENCE:0
DTSTAMP:20260423T151037Z
DTSTART:20251118T090000Z
DTEND:20251118T104000Z
SUMMARY:Экономика энергетики
LOCATION:ТВН ВШАиТЭ уч.ауд.№303
END:VEVENT
BEGIN:VEVENT
UID:ysa6@192.168.245.71:3006
SEQUENCE:0
DTSTAMP:20260423T151037Z
DTSTART:20251118T110000Z
DTEND:20251118T124000Z
SUMMARY:Цифровые ресурсы в научном исследовании
LOCATION:Хим. к. 9
END:VEVENT
BEGIN:VEVENT
UID:qdt1@192.168.245.71:3006
SEQUENCE:0
DTSTAMP:20260423T151037Z
DTSTART:20251119T070000Z
DTEND:20251119T084000Z
SUMMARY:Иностранный язык в профессиональной коммуникации\, Английский
LOCATION:ГЗ 219
END:VEVENT
BEGIN:VEVENT
UID:wepb@192.168.245.71:3006
SEQUENCE:0
DTSTAMP:20260423T151037Z
DTSTART:20251119T090000Z
DTEND:20251119T104000Z
SUMMARY:Инвестиционный менеджмент в энергетике
LOCATION:ТВН ВШАиТЭ уч.ауд.№102
END:VEVENT
BEGIN:VEVENT
UID:z3t1@192.168.245.71:3006
SEQUENCE:0
DTSTAMP:20260423T151037Z
DTSTART:20251119T110000Z
DTEND:20251119T124000Z
SUMMARY:Принципы эффективного управления технологическими процессами в эне
 ргетике
LOCATION:ГЗ 283
END:VEVENT
BEGIN:VEVENT
UID:bq74@192.168.245.71:3006
SEQUENCE:0
DTSTAMP:20260423T151037Z
DTSTART:20251119T130000Z
DTEND:20251119T144000Z
SUMMARY:Возобновляемые источники энергии
LOCATION:ТВН ВШАиТЭ уч.ауд.№102
END:VEVENT
END:VCALENDAR