BEGIN:VCALENDAR
VERSION:2.0
PRODID:-//spbstu.ru//ical//RU
NAME:Расписание группы 3241301/50602
X-WR-CALNAME:Расписание группы 3241301/50602
TIMEZONE-ID:Europe/Moscow
X-WR-TIMEZONE:Europe/Moscow
BEGIN:VEVENT
UID:wuo1@192.168.245.71:3006
SEQUENCE:0
DTSTAMP:20260422T081615Z
DTSTART:20260112T110000Z
DTEND:20260112T150000Z
SUMMARY:Современные проблемы тепловой энергетики
LOCATION:ТВН ВШАиТЭ комп.кл.
END:VEVENT
BEGIN:VEVENT
UID:btsu@192.168.245.71:3006
SEQUENCE:0
DTSTAMP:20260422T081615Z
DTSTART:20260115T100000Z
DTEND:20260115T130000Z
SUMMARY:Принципы эффективного управления технологическими процессами в эне
 ргетике
LOCATION:Хим. к. 9
END:VEVENT
END:VCALENDAR