BEGIN:VCALENDAR
VERSION:2.0
PRODID:-//spbstu.ru//ical//RU
NAME:Расписание группы 3241301/50602
X-WR-CALNAME:Расписание группы 3241301/50602
TIMEZONE-ID:Europe/Moscow
X-WR-TIMEZONE:Europe/Moscow
BEGIN:VEVENT
UID:14yu@192.168.245.71:3006
SEQUENCE:0
DTSTAMP:20260422T145237Z
DTSTART:20260518T090000Z
DTEND:20260518T104000Z
SUMMARY:Системы энергообеспечения предприятий
LOCATION:ТВН ВШАиТЭ уч.ауд.№102
END:VEVENT
BEGIN:VEVENT
UID:lah2@192.168.245.71:3006
SEQUENCE:0
DTSTAMP:20260422T145237Z
DTSTART:20260518T110000Z
DTEND:20260518T124000Z
SUMMARY:Управление инновационным проектом
LOCATION:ТВН ВШАиТЭ уч.ауд.№302а
END:VEVENT
BEGIN:VEVENT
UID:nw58@192.168.245.71:3006
SEQUENCE:0
DTSTAMP:20260422T145237Z
DTSTART:20260518T130000Z
DTEND:20260518T144000Z
SUMMARY:Автоматические системы управления тепловыми процессами
LOCATION:Хим. к. 9
END:VEVENT
BEGIN:VEVENT
UID:lwfh@192.168.245.71:3006
SEQUENCE:0
DTSTAMP:20260422T145237Z
DTSTART:20260519T090000Z
DTEND:20260519T104000Z
SUMMARY:Экономика и управление энергосбережением
LOCATION:ГЗ 209
END:VEVENT
END:VCALENDAR