BEGIN:VCALENDAR
VERSION:2.0
PRODID:-//spbstu.ru//ical//RU
NAME:Расписание группы з3241302/41901
X-WR-CALNAME:Расписание группы з3241302/41901
TIMEZONE-ID:Europe/Moscow
X-WR-TIMEZONE:Europe/Moscow
BEGIN:VEVENT
UID:imxi@192.168.245.71:3006
SEQUENCE:0
DTSTAMP:20260424T055129Z
DTSTART:20260608T110000Z
DTEND:20260608T144000Z
SUMMARY:Механический расчет воздушных линий электропередачи
LOCATION:Мех. к. 11
END:VEVENT
BEGIN:VEVENT
UID:oe5d@192.168.245.71:3006
SEQUENCE:0
DTSTAMP:20260424T055129Z
DTSTART:20260609T110000Z
DTEND:20260609T164000Z
SUMMARY:Современное оборудование и проектирование систем электроснабжения
LOCATION:Мех. к. 11
END:VEVENT
BEGIN:VEVENT
UID:lgul@192.168.245.71:3006
SEQUENCE:0
DTSTAMP:20260424T055129Z
DTSTART:20260610T070000Z
DTEND:20260610T104000Z
SUMMARY:Современное оборудование и проектирование систем электроснабжения
LOCATION:Мех. к. 11
END:VEVENT
BEGIN:VEVENT
UID:wjgu@192.168.245.71:3006
SEQUENCE:0
DTSTAMP:20260424T055129Z
DTSTART:20260610T110000Z
DTEND:20260610T124000Z
SUMMARY:Современное оборудование и проектирование систем электроснабжения
LOCATION:Мех. к. 11
END:VEVENT
END:VCALENDAR