BEGIN:VCALENDAR
VERSION:2.0
PRODID:-//spbstu.ru//ical//RU
NAME:Расписание группы 3331501/50001
X-WR-CALNAME:Расписание группы 3331501/50001
TIMEZONE-ID:Europe/Moscow
X-WR-TIMEZONE:Europe/Moscow
BEGIN:VEVENT
UID:kyxx@192.168.245.71:3006
SEQUENCE:0
DTSTAMP:20260421T102757Z
DTSTART:20260209T050000Z
DTEND:20260209T064000Z
SUMMARY:Элективная физическая культура и спорт
LOCATION:СК Секции
END:VEVENT
BEGIN:VEVENT
UID:ai6q@192.168.245.71:3006
SEQUENCE:0
DTSTAMP:20260421T102757Z
DTSTART:20260209T070000Z
DTEND:20260209T084000Z
SUMMARY:Информатика
LOCATION:ГЗ 232
END:VEVENT
BEGIN:VEVENT
UID:e15m@192.168.245.71:3006
SEQUENCE:0
DTSTAMP:20260421T102757Z
DTSTART:20260209T090000Z
DTEND:20260209T104000Z
SUMMARY:Теоретическая механика
LOCATION:ГЗ 232
END:VEVENT
BEGIN:VEVENT
UID:cvse@192.168.245.71:3006
SEQUENCE:0
DTSTAMP:20260421T102757Z
DTSTART:20260209T110000Z
DTEND:20260209T124000Z
SUMMARY:Теоретическая механика
LOCATION:ГЗ 228
END:VEVENT
BEGIN:VEVENT
UID:331c@192.168.245.71:3006
SEQUENCE:0
DTSTAMP:20260421T102757Z
DTSTART:20260209T130000Z
DTEND:20260209T144000Z
SUMMARY:Иностранный язык: Русский язык как иностранный
LOCATION:1 к. 420
END:VEVENT
BEGIN:VEVENT
UID:f0a9@192.168.245.71:3006
SEQUENCE:0
DTSTAMP:20260421T102757Z
DTSTART:20260210T090000Z
DTEND:20260210T104000Z
SUMMARY:Высшая математика
LOCATION:ГЗ 232
END:VEVENT
BEGIN:VEVENT
UID:rqdq@192.168.245.71:3006
SEQUENCE:0
DTSTAMP:20260421T102757Z
DTSTART:20260210T110000Z
DTEND:20260210T124000Z
SUMMARY:Высшая математика
LOCATION:ГЗ 207
END:VEVENT
BEGIN:VEVENT
UID:tf5s@192.168.245.71:3006
SEQUENCE:0
DTSTAMP:20260421T102757Z
DTSTART:20260210T130000Z
DTEND:20260210T144000Z
SUMMARY:Информатика
LOCATION:1 к. 437
END:VEVENT
BEGIN:VEVENT
UID:qozj@192.168.245.71:3006
SEQUENCE:0
DTSTAMP:20260421T102757Z
DTSTART:20260210T130000Z
DTEND:20260210T144000Z
SUMMARY:Информатика
LOCATION:1 к. 438
END:VEVENT
BEGIN:VEVENT
UID:o86g@192.168.245.71:3006
SEQUENCE:0
DTSTAMP:20260421T102757Z
DTSTART:20260211T070000Z
DTEND:20260211T084000Z
SUMMARY:Введение в механику машин
LOCATION:ГЗ 232
END:VEVENT
BEGIN:VEVENT
UID:gcb5@192.168.245.71:3006
SEQUENCE:0
DTSTAMP:20260421T102757Z
DTSTART:20260211T090000Z
DTEND:20260211T104000Z
SUMMARY:Иностранный язык: Базовый курс
LOCATION:ГЗ 210
END:VEVENT
BEGIN:VEVENT
UID:x2ad@192.168.245.71:3006
SEQUENCE:0
DTSTAMP:20260421T102757Z
DTSTART:20260211T110000Z
DTEND:20260211T124000Z
SUMMARY:Введение в механику машин
LOCATION:1 к. 435
END:VEVENT
BEGIN:VEVENT
UID:j8dl@192.168.245.71:3006
SEQUENCE:0
DTSTAMP:20260421T102757Z
DTSTART:20260211T130000Z
DTEND:20260211T144000Z
SUMMARY:История России
LOCATION:ГЗ 153
END:VEVENT
BEGIN:VEVENT
UID:fq3q@192.168.245.71:3006
SEQUENCE:0
DTSTAMP:20260421T102757Z
DTSTART:20260212T070000Z
DTEND:20260212T084000Z
SUMMARY:Элективная физическая культура и спорт
LOCATION:СК Секции
END:VEVENT
BEGIN:VEVENT
UID:rdpa@192.168.245.71:3006
SEQUENCE:0
DTSTAMP:20260421T102757Z
DTSTART:20260212T090000Z
DTEND:20260212T104000Z
SUMMARY:Физика
LOCATION:ГЗ 215
END:VEVENT
BEGIN:VEVENT
UID:tfzr@192.168.245.71:3006
SEQUENCE:0
DTSTAMP:20260421T102757Z
DTSTART:20260212T110000Z
DTEND:20260212T124000Z
SUMMARY:Инженерная графика
LOCATION:ГЗ 304
END:VEVENT
BEGIN:VEVENT
UID:g6ea@192.168.245.71:3006
SEQUENCE:0
DTSTAMP:20260421T102757Z
DTSTART:20260213T070000Z
DTEND:20260213T084000Z
SUMMARY:Физика
LOCATION:1 к. 41
END:VEVENT
BEGIN:VEVENT
UID:l9ag@192.168.245.71:3006
SEQUENCE:0
DTSTAMP:20260421T102757Z
DTSTART:20260213T090000Z
DTEND:20260213T104000Z
SUMMARY:Физика
LOCATION:1 к. 436
END:VEVENT
BEGIN:VEVENT
UID:bv4k@192.168.245.71:3006
SEQUENCE:0
DTSTAMP:20260421T102757Z
DTSTART:20260214T150000Z
DTEND:20260214T164000Z
SUMMARY:Иностранный язык: Русский язык как иностранный
LOCATION:1 к. 420
END:VEVENT
END:VCALENDAR