BEGIN:VCALENDAR
VERSION:2.0
PRODID:-//spbstu.ru//ical//RU
NAME:Расписание группы 3331504/50001
X-WR-CALNAME:Расписание группы 3331504/50001
TIMEZONE-ID:Europe/Moscow
X-WR-TIMEZONE:Europe/Moscow
BEGIN:VEVENT
UID:vdr1@192.168.245.71:3006
SEQUENCE:0
DTSTAMP:20260421T141625Z
DTSTART:20260202T050000Z
DTEND:20260202T064000Z
SUMMARY:Философия
LOCATION:1 к. 41
END:VEVENT
BEGIN:VEVENT
UID:1gjy@192.168.245.71:3006
SEQUENCE:0
DTSTAMP:20260421T141625Z
DTSTART:20260202T070000Z
DTEND:20260202T084000Z
SUMMARY:Информатика
LOCATION:ГЗ 232
END:VEVENT
BEGIN:VEVENT
UID:2t51@192.168.245.71:3006
SEQUENCE:0
DTSTAMP:20260421T141625Z
DTSTART:20260202T090000Z
DTEND:20260202T104000Z
SUMMARY:История России
LOCATION:ГЗ 284
END:VEVENT
BEGIN:VEVENT
UID:wzs9@192.168.245.71:3006
SEQUENCE:0
DTSTAMP:20260421T141625Z
DTSTART:20260202T130000Z
DTEND:20260202T144000Z
SUMMARY:Иностранный язык: Русский язык как иностранный
LOCATION:1 к. 420
END:VEVENT
BEGIN:VEVENT
UID:0od5@192.168.245.71:3006
SEQUENCE:0
DTSTAMP:20260421T141625Z
DTSTART:20260203T070000Z
DTEND:20260203T084000Z
SUMMARY:Инженерная графика
LOCATION:ГЗ 303 (6)
END:VEVENT
BEGIN:VEVENT
UID:rlf7@192.168.245.71:3006
SEQUENCE:0
DTSTAMP:20260421T141625Z
DTSTART:20260203T090000Z
DTEND:20260203T104000Z
SUMMARY:Информатика
LOCATION:1 к. 438
END:VEVENT
BEGIN:VEVENT
UID:pz16@192.168.245.71:3006
SEQUENCE:0
DTSTAMP:20260421T141625Z
DTSTART:20260203T090000Z
DTEND:20260203T104000Z
SUMMARY:Информатика
LOCATION:1 к. 437
END:VEVENT
BEGIN:VEVENT
UID:k9sx@192.168.245.71:3006
SEQUENCE:0
DTSTAMP:20260421T141625Z
DTSTART:20260203T110000Z
DTEND:20260203T124000Z
SUMMARY:Высшая математика
LOCATION:ГЗ 228
END:VEVENT
BEGIN:VEVENT
UID:wzxx@192.168.245.71:3006
SEQUENCE:0
DTSTAMP:20260421T141625Z
DTSTART:20260203T130000Z
DTEND:20260203T144000Z
SUMMARY:Физика
LOCATION:ГЗ 155
END:VEVENT
BEGIN:VEVENT
UID:dui4@192.168.245.71:3006
SEQUENCE:0
DTSTAMP:20260421T141625Z
DTSTART:20260203T130000Z
DTEND:20260203T144000Z
SUMMARY:Физика
LOCATION:ГЗ 155
END:VEVENT
BEGIN:VEVENT
UID:ui12@192.168.245.71:3006
SEQUENCE:0
DTSTAMP:20260421T141625Z
DTSTART:20260203T130000Z
DTEND:20260203T144000Z
SUMMARY:Физика
LOCATION:ГЗ 155
END:VEVENT
BEGIN:VEVENT
UID:suyf@192.168.245.71:3006
SEQUENCE:0
DTSTAMP:20260421T141625Z
DTSTART:20260204T070000Z
DTEND:20260204T084000Z
SUMMARY:Высшая математика
LOCATION:ГЗ 329
END:VEVENT
BEGIN:VEVENT
UID:sz8o@192.168.245.71:3006
SEQUENCE:0
DTSTAMP:20260421T141625Z
DTSTART:20260204T090000Z
DTEND:20260204T104000Z
SUMMARY:Введение в механику машин
LOCATION:ГЗ 305
END:VEVENT
BEGIN:VEVENT
UID:aoys@192.168.245.71:3006
SEQUENCE:0
DTSTAMP:20260421T141625Z
DTSTART:20260204T110000Z
DTEND:20260204T133000Z
SUMMARY:Физика (доп.)
LOCATION:1 к. 413
END:VEVENT
BEGIN:VEVENT
UID:t56o@192.168.245.71:3006
SEQUENCE:0
DTSTAMP:20260421T141625Z
DTSTART:20260204T110000Z
DTEND:20260204T133000Z
SUMMARY:Физика
LOCATION:1 к. 41
END:VEVENT
BEGIN:VEVENT
UID:2yor@192.168.245.71:3006
SEQUENCE:0
DTSTAMP:20260421T141625Z
DTSTART:20260204T133000Z
DTEND:20260204T151000Z
SUMMARY:Физика (доп.)
LOCATION:1 к. 413
END:VEVENT
BEGIN:VEVENT
UID:799i@192.168.245.71:3006
SEQUENCE:0
DTSTAMP:20260421T141625Z
DTSTART:20260205T050000Z
DTEND:20260205T064000Z
SUMMARY:Экономическая культура
LOCATION:1 к. 41
END:VEVENT
BEGIN:VEVENT
UID:kc30@192.168.245.71:3006
SEQUENCE:0
DTSTAMP:20260421T141625Z
DTSTART:20260205T070000Z
DTEND:20260205T084000Z
SUMMARY:Философия
LOCATION:1 к. 41
END:VEVENT
BEGIN:VEVENT
UID:u3za@192.168.245.71:3006
SEQUENCE:0
DTSTAMP:20260421T141625Z
DTSTART:20260205T090000Z
DTEND:20260205T104000Z
SUMMARY:Физика
LOCATION:ГЗ 184
END:VEVENT
BEGIN:VEVENT
UID:lw5t@192.168.245.71:3006
SEQUENCE:0
DTSTAMP:20260421T141625Z
DTSTART:20260205T110000Z
DTEND:20260205T124000Z
SUMMARY:Теоретическая механика
LOCATION:ГЗ 232
END:VEVENT
BEGIN:VEVENT
UID:ra5z@192.168.245.71:3006
SEQUENCE:0
DTSTAMP:20260421T141625Z
DTSTART:20260206T090000Z
DTEND:20260206T104000Z
SUMMARY:Введение в механику машин
LOCATION:1 к. 425
END:VEVENT
BEGIN:VEVENT
UID:8gl1@192.168.245.71:3006
SEQUENCE:0
DTSTAMP:20260421T141625Z
DTSTART:20260206T110000Z
DTEND:20260206T124000Z
SUMMARY:Теоретическая механика
LOCATION:1 к. 413
END:VEVENT
BEGIN:VEVENT
UID:nmjv@192.168.245.71:3006
SEQUENCE:0
DTSTAMP:20260421T141625Z
DTSTART:20260206T130000Z
DTEND:20260206T144000Z
SUMMARY:Иностранный язык: Базовый курс
LOCATION:1 к. 418
END:VEVENT
BEGIN:VEVENT
UID:a24w@192.168.245.71:3006
SEQUENCE:0
DTSTAMP:20260421T141625Z
DTSTART:20260206T150000Z
DTEND:20260206T164000Z
SUMMARY:Высшая математика повышенной сложности
LOCATION:1 к. 41
END:VEVENT
BEGIN:VEVENT
UID:06z1@192.168.245.71:3006
SEQUENCE:0
DTSTAMP:20260421T141625Z
DTSTART:20260207T150000Z
DTEND:20260207T164000Z
SUMMARY:Иностранный язык: Русский язык как иностранный
LOCATION:1 к. 420
END:VEVENT
END:VCALENDAR