BEGIN:VCALENDAR
VERSION:2.0
PRODID:-//spbstu.ru//ical//RU
NAME:Расписание группы 3331504/50001
X-WR-CALNAME:Расписание группы 3331504/50001
TIMEZONE-ID:Europe/Moscow
X-WR-TIMEZONE:Europe/Moscow
BEGIN:VEVENT
UID:2izf@192.168.245.71:3006
SEQUENCE:0
DTSTAMP:20260421T013441Z
DTSTART:20260518T050000Z
DTEND:20260518T064000Z
SUMMARY:Элективная физическая культура и спорт
LOCATION:СК Секции
END:VEVENT
BEGIN:VEVENT
UID:pjuq@192.168.245.71:3006
SEQUENCE:0
DTSTAMP:20260421T013441Z
DTSTART:20260518T070000Z
DTEND:20260518T084000Z
SUMMARY:Информатика
LOCATION:ГЗ 305
END:VEVENT
BEGIN:VEVENT
UID:iecj@192.168.245.71:3006
SEQUENCE:0
DTSTAMP:20260421T013441Z
DTSTART:20260518T130000Z
DTEND:20260518T144000Z
SUMMARY:Иностранный язык: Русский язык как иностранный
LOCATION:1 к. 420
END:VEVENT
BEGIN:VEVENT
UID:ufcy@192.168.245.71:3006
SEQUENCE:0
DTSTAMP:20260421T013441Z
DTSTART:20260519T070000Z
DTEND:20260519T084000Z
SUMMARY:Физика (доп.)
LOCATION:1 к. 425
END:VEVENT
BEGIN:VEVENT
UID:71lz@192.168.245.71:3006
SEQUENCE:0
DTSTAMP:20260421T013441Z
DTSTART:20260519T090000Z
DTEND:20260519T104000Z
SUMMARY:Информатика
LOCATION:1 к. 438
END:VEVENT
BEGIN:VEVENT
UID:vf2o@192.168.245.71:3006
SEQUENCE:0
DTSTAMP:20260421T013441Z
DTSTART:20260519T090000Z
DTEND:20260519T104000Z
SUMMARY:Информатика
LOCATION:1 к. 437
END:VEVENT
BEGIN:VEVENT
UID:nw1w@192.168.245.71:3006
SEQUENCE:0
DTSTAMP:20260421T013441Z
DTSTART:20260521T050000Z
DTEND:20260521T064000Z
SUMMARY:Высшая математика повышенной сложности
LOCATION:1 к. 41
END:VEVENT
BEGIN:VEVENT
UID:kkod@192.168.245.71:3006
SEQUENCE:0
DTSTAMP:20260421T013441Z
DTSTART:20260522T090000Z
DTEND:20260522T104000Z
SUMMARY:Введение в механику машин
LOCATION:1 к. 425
END:VEVENT
BEGIN:VEVENT
UID:94oi@192.168.245.71:3006
SEQUENCE:0
DTSTAMP:20260421T013441Z
DTSTART:20260522T110000Z
DTEND:20260522T124000Z
SUMMARY:Теоретическая механика
LOCATION:1 к. 413
END:VEVENT
BEGIN:VEVENT
UID:7mh6@192.168.245.71:3006
SEQUENCE:0
DTSTAMP:20260421T013441Z
DTSTART:20260522T130000Z
DTEND:20260522T144000Z
SUMMARY:Иностранный язык: Базовый курс
LOCATION:1 к. 418
END:VEVENT
BEGIN:VEVENT
UID:v7kx@192.168.245.71:3006
SEQUENCE:0
DTSTAMP:20260421T013441Z
DTSTART:20260522T150000Z
DTEND:20260522T164000Z
SUMMARY:Высшая математика повышенной сложности
LOCATION:1 к. 41
END:VEVENT
BEGIN:VEVENT
UID:zs20@192.168.245.71:3006
SEQUENCE:0
DTSTAMP:20260421T013441Z
DTSTART:20260523T070000Z
DTEND:20260523T084000Z
SUMMARY:История России
LOCATION:1 к. 41
END:VEVENT
BEGIN:VEVENT
UID:5k9r@192.168.245.71:3006
SEQUENCE:0
DTSTAMP:20260421T013441Z
DTSTART:20260523T150000Z
DTEND:20260523T164000Z
SUMMARY:Иностранный язык: Русский язык как иностранный
LOCATION:1 к. 420
END:VEVENT
END:VCALENDAR