BEGIN:VCALENDAR
VERSION:2.0
PRODID:-//spbstu.ru//ical//RU
NAME:Расписание группы 3331504/50002
X-WR-CALNAME:Расписание группы 3331504/50002
TIMEZONE-ID:Europe/Moscow
X-WR-TIMEZONE:Europe/Moscow
BEGIN:VEVENT
UID:d04p@192.168.245.71:3006
SEQUENCE:0
DTSTAMP:20260423T191839Z
DTSTART:20251027T050000Z
DTEND:20251027T064000Z
SUMMARY:Элективная физическая культура и спорт
LOCATION:СК Секции
END:VEVENT
BEGIN:VEVENT
UID:inwx@192.168.245.71:3006
SEQUENCE:0
DTSTAMP:20260423T191839Z
DTSTART:20251027T070000Z
DTEND:20251027T084000Z
SUMMARY:Высшая математика
LOCATION:ГЗ 232
END:VEVENT
BEGIN:VEVENT
UID:p5lb@192.168.245.71:3006
SEQUENCE:0
DTSTAMP:20260423T191839Z
DTSTART:20251027T090000Z
DTEND:20251027T104000Z
SUMMARY:Высшая математика
LOCATION:ГЗ 232
END:VEVENT
BEGIN:VEVENT
UID:bpif@192.168.245.71:3006
SEQUENCE:0
DTSTAMP:20260423T191839Z
DTSTART:20251027T110000Z
DTEND:20251027T124000Z
SUMMARY:Основы российской государственности
LOCATION:ГЗ 224
END:VEVENT
BEGIN:VEVENT
UID:1o5p@192.168.245.71:3006
SEQUENCE:0
DTSTAMP:20260423T191839Z
DTSTART:20251027T130000Z
DTEND:20251027T144000Z
SUMMARY:Иностранный язык: Русский язык как иностранный
LOCATION:1 к. 436
END:VEVENT
BEGIN:VEVENT
UID:9tls@192.168.245.71:3006
SEQUENCE:0
DTSTAMP:20260423T191839Z
DTSTART:20251027T150000Z
DTEND:20251027T171500Z
SUMMARY:Русский язык как иностранный
LOCATION:15 к. 330
END:VEVENT
BEGIN:VEVENT
UID:nu9v@192.168.245.71:3006
SEQUENCE:0
DTSTAMP:20260423T191839Z
DTSTART:20251028T070000Z
DTEND:20251028T084000Z
SUMMARY:История России
LOCATION:ГЗ 152
END:VEVENT
BEGIN:VEVENT
UID:b5vy@192.168.245.71:3006
SEQUENCE:0
DTSTAMP:20260423T191839Z
DTSTART:20251028T090000Z
DTEND:20251028T104000Z
SUMMARY:Химия
LOCATION:Хим. к. 58
END:VEVENT
BEGIN:VEVENT
UID:fy3p@192.168.245.71:3006
SEQUENCE:0
DTSTAMP:20260423T191839Z
DTSTART:20251028T110000Z
DTEND:20251028T115000Z
SUMMARY:Химия
LOCATION:Хим. к. 58
END:VEVENT
BEGIN:VEVENT
UID:mdr7@192.168.245.71:3006
SEQUENCE:0
DTSTAMP:20260423T191839Z
DTSTART:20251028T110000Z
DTEND:20251028T115000Z
SUMMARY:Химия
LOCATION:Хим. к. 58
END:VEVENT
BEGIN:VEVENT
UID:sulb@192.168.245.71:3006
SEQUENCE:0
DTSTAMP:20260423T191839Z
DTSTART:20251028T110000Z
DTEND:20251028T115000Z
SUMMARY:Химия
LOCATION:Хим. к. 58
END:VEVENT
BEGIN:VEVENT
UID:q1co@192.168.245.71:3006
SEQUENCE:0
DTSTAMP:20260423T191839Z
DTSTART:20251029T070000Z
DTEND:20251029T084000Z
SUMMARY:Основы цифровых технологий
LOCATION:1 к. кафедра Автоматы
END:VEVENT
BEGIN:VEVENT
UID:710i@192.168.245.71:3006
SEQUENCE:0
DTSTAMP:20260423T191839Z
DTSTART:20251029T090000Z
DTEND:20251029T104000Z
SUMMARY:Иностранный язык: Базовый курс
LOCATION:1 к. 413
END:VEVENT
BEGIN:VEVENT
UID:h2cm@192.168.245.71:3006
SEQUENCE:0
DTSTAMP:20260423T191839Z
DTSTART:20251030T050000Z
DTEND:20251030T064000Z
SUMMARY:Инженерная графика
LOCATION:ГЗ 225
END:VEVENT
BEGIN:VEVENT
UID:zv4s@192.168.245.71:3006
SEQUENCE:0
DTSTAMP:20260423T191839Z
DTSTART:20251030T070000Z
DTEND:20251030T084000Z
SUMMARY:Элективная физическая культура и спорт
LOCATION:СК Секции
END:VEVENT
BEGIN:VEVENT
UID:9gfj@192.168.245.71:3006
SEQUENCE:0
DTSTAMP:20260423T191839Z
DTSTART:20251030T090000Z
DTEND:20251030T104000Z
SUMMARY:Химия
LOCATION:Хим. к. 52
END:VEVENT
BEGIN:VEVENT
UID:y98e@192.168.245.71:3006
SEQUENCE:0
DTSTAMP:20260423T191839Z
DTSTART:20251030T110000Z
DTEND:20251030T124000Z
SUMMARY:Инженерная графика
LOCATION:ГЗ 232
END:VEVENT
BEGIN:VEVENT
UID:33vu@192.168.245.71:3006
SEQUENCE:0
DTSTAMP:20260423T191839Z
DTSTART:20251030T150000Z
DTEND:20251030T170000Z
SUMMARY:Дополнительные занятия по физике
LOCATION:ГЗ 232
END:VEVENT
BEGIN:VEVENT
UID:kl4u@192.168.245.71:3006
SEQUENCE:0
DTSTAMP:20260423T191839Z
DTSTART:20251031T090000Z
DTEND:20251031T104000Z
SUMMARY:Высшая математика
LOCATION:1 к. 435
END:VEVENT
BEGIN:VEVENT
UID:i796@192.168.245.71:3006
SEQUENCE:0
DTSTAMP:20260423T191839Z
DTSTART:20251031T110000Z
DTEND:20251031T124000Z
SUMMARY:Введение в профессиональную деятельность
LOCATION:ГЗ 232
END:VEVENT
BEGIN:VEVENT
UID:piu9@192.168.245.71:3006
SEQUENCE:0
DTSTAMP:20260423T191839Z
DTSTART:20251101T070000Z
DTEND:20251101T084000Z
SUMMARY:Основы российской государственности
LOCATION:1 к. 41
END:VEVENT
BEGIN:VEVENT
UID:4t6r@192.168.245.71:3006
SEQUENCE:0
DTSTAMP:20260423T191839Z
DTSTART:20251101T090000Z
DTEND:20251101T104000Z
SUMMARY:История России
LOCATION:ГЗ 232
END:VEVENT
BEGIN:VEVENT
UID:uw6i@192.168.245.71:3006
SEQUENCE:0
DTSTAMP:20260423T191839Z
DTSTART:20251101T110000Z
DTEND:20251101T124000Z
SUMMARY:Иностранный язык: Русский язык как иностранный
LOCATION:1 к. 436
END:VEVENT
END:VCALENDAR